BEGIN:VCALENDAR
VERSION:2.0
PRODID:-//Centro Turístico Virtual - ECPv6.6.1//NONSGML v1.0//EN
CALSCALE:GREGORIAN
METHOD:PUBLISH
X-ORIGINAL-URL:https://www.centroturisticovirtual.com/calendario
X-WR-CALDESC:Eventos para Centro Turístico Virtual
REFRESH-INTERVAL;VALUE=DURATION:PT1H
X-Robots-Tag:noindex
X-PUBLISHED-TTL:PT1H
BEGIN:VTIMEZONE
TZID:UTC
BEGIN:STANDARD
TZOFFSETFROM:+0000
TZOFFSETTO:+0000
TZNAME:UTC
DTSTART:20240101T000000
END:STANDARD
END:VTIMEZONE
BEGIN:VEVENT
DTSTART;TZID=UTC:20240901T200000
DTEND;TZID=UTC:20240901T220000
DTSTAMP:20260423T211014
CREATED:20240812T185336Z
LAST-MODIFIED:20240812T185337Z
UID:10000023-1725220800-1725228000@www.centroturisticovirtual.com
SUMMARY:2da. Temporada del Ballet Clásico y Moderno Municipal obra – Romeo y Julieta
DESCRIPTION:2da. Temporada del Ballet Clásico y Moderno Municipal obra – Romeo y Julieta en el Teatro Municipal Ignacio A. Pane.  \n\n\n\nFechas: Viernes 23\, sábado 24\, domingo 25\, viernes 30\, sábado 31 de agosto y domingo 01 de Setiembre. \n\n\n\nInformes y ventas. Tel 0975 555 209.
URL:https://www.centroturisticovirtual.com/calendario/event/2da-temporada-del-ballet-clasico-y-moderno-municipal-obra-romeo-y-julieta/2024-09-01/
LOCATION:Teatro Municipal\, Pdte. Franco entre\, Chile y\, Asunción\, Asunción\, Paraguay
GEO:-25.280987448548;-57.634167727789
X-APPLE-STRUCTURED-LOCATION;VALUE=URI;X-ADDRESS=Teatro Municipal Pdte. Franco entre Chile y Asunción Asunción Paraguay;X-APPLE-RADIUS=500;X-TITLE=Pdte. Franco entre\, Chile y\, Asunción:geo:-57.634167727789,-25.280987448548
END:VEVENT
BEGIN:VEVENT
DTSTART;TZID=UTC:20240924T080000
DTEND;TZID=UTC:20240927T080000
DTSTAMP:20260423T211014
CREATED:20240924T180928Z
LAST-MODIFIED:20240924T192709Z
UID:10000098-1727164800-1727424000@www.centroturisticovirtual.com
SUMMARY:ASUJEGUATA
DESCRIPTION:Recorrido turístico por el Centro Histórico de Asunción. Punto de encuentro: Manzana de la Rivera.
URL:https://www.centroturisticovirtual.com/calendario/event/asujeguata/
LOCATION:Manzana de la Rivera\, El Paraguayo Independiente\, Asunción 001012\, Asunción\, Paraguay
ATTACH;FMTTYPE=image/jpeg:https://www.centroturisticovirtual.com/calendario/wp-content/uploads/2024/09/346873148_9166460800095057_7851187615318014106_n.jpg
GEO:-25.277737447125;-57.637463843131
X-APPLE-STRUCTURED-LOCATION;VALUE=URI;X-ADDRESS=Manzana de la Rivera El Paraguayo Independiente Asunción 001012 Asunción Paraguay;X-APPLE-RADIUS=500;X-TITLE=El Paraguayo Independiente\, Asunción 001012:geo:-57.637463843131,-25.277737447125
END:VEVENT
BEGIN:VEVENT
DTSTART;TZID=UTC:20240924T200000
DTEND;TZID=UTC:20240924T200000
DTSTAMP:20260423T211014
CREATED:20240924T184443Z
LAST-MODIFIED:20240924T184445Z
UID:10000101-1727208000-1727208000@www.centroturisticovirtual.com
SUMMARY:Festival de Danza. Teatro “Agustín Barrios”
DESCRIPTION:
URL:https://www.centroturisticovirtual.com/calendario/event/festival-de-danza-teatro-agustin-barrios/
LOCATION:Centro Paraguayo Japonés\, Domingo Portillo\, Asunción 001526\, Asunción\, Paraguay
ATTACH;FMTTYPE=image/jpeg:https://www.centroturisticovirtual.com/calendario/wp-content/uploads/2024/08/paraguayojapones.jpg
GEO:-25.272671425582;-57.563962164014
X-APPLE-STRUCTURED-LOCATION;VALUE=URI;X-ADDRESS=Centro Paraguayo Japonés Domingo Portillo Asunción 001526 Asunción Paraguay;X-APPLE-RADIUS=500;X-TITLE=Domingo Portillo\, Asunción 001526:geo:-57.563962164014,-25.272671425582
END:VEVENT
BEGIN:VEVENT
DTSTART;TZID=UTC:20240925T133000
DTEND;TZID=UTC:20240926T130000
DTSTAMP:20260423T211014
CREATED:20240925T190952Z
LAST-MODIFIED:20240925T191537Z
UID:10000114-1727271000-1727355600@www.centroturisticovirtual.com
SUMMARY:TOUR TRINIDAD
DESCRIPTION:Recorrido guiado por el Barrio Trinidad de Asunción\, lugares a visitar: Memorial YkuaBolaños\, Museo de la silla\, Iglesia Santísima Trinidad\, Casa Francia\, Cine Cañiza\, Kurusu Cadete\, Jardín Botánico. \n\n\n\nDOMINGO 06 \n\n\n\nHorarios: 13:30 HPunto de encuentro: Centro Municipal de Información Turística \n\n\n\nAgendamiento previo a través de Asunción live
URL:https://www.centroturisticovirtual.com/calendario/event/tour-trinidad/
LOCATION:Otras Actividades\, Asunción\, Paraguay
ATTACH;FMTTYPE=image/jpeg:https://www.centroturisticovirtual.com/calendario/wp-content/uploads/2024/09/Iglesia-de-Trinidad.jpg
END:VEVENT
BEGIN:VEVENT
DTSTART;TZID=UTC:20240926T080000
DTEND;TZID=UTC:20241002T170000
DTSTAMP:20260423T211014
CREATED:20240926T180213Z
LAST-MODIFIED:20240926T180214Z
UID:10000152-1727337600-1727888400@www.centroturisticovirtual.com
SUMMARY:Exposición gratuita de Tiras Cómicas de "Trino"
DESCRIPTION:Casa Castelví – Manzana de la Rivera \n\n\n\nComo parte de las actividades para celebrar el 214 aniversario de la Independencia de México\, la Embajada de México en Paraguay invita a la exposición de tiras cómicas del famoso monero mexicano José Trinidad Camacho\, conocido como 𝑇𝑟𝑖𝑛𝑜\, el más innovador y provocador caricaturista de México. \n\n\n\nCon acceso libre y gratuito\, la muestra Trino. El arte de reírnos de nosotros mismos tendrá lugar en la Casa Castelví de la Manzana de la Rivera hasta el 2 de octubre. \n\n\n\nEn el México contemporáneo\, el caricaturista que dibuja y/o escribe las tiras cómicas de los periódicos o revistas del país se le conoce como «monero» y Trino siempre destaca con su humor que retrata las situaciones cotidianas con desenfado y muchas veces absurdo. \n\n\n\nSus «monitos»\, que pueden ser de tinte politico o de cualquier otra clase de humor\, contribuyen a entender y generar conciencia sobre la realidad política\, económica y social del país. \n\n\n\nTrino\, nacido en Guadalajara\, Jalisco\, en 1961 y es dueño de un humor ácido y directo. Sus caricaturas abarcan muy distintas temáticas\, desde el chiste infantil hasta la crítica política más cruda. \n\n\n\nGanó el Premio Nacional de Periodismo de México en el año 2000\, el Premio de Periodismo José Pagés Llergo al mejor caricaturista en el año 2006 y el premio Inkpad de la Comic-Con 2022 en San Diego\, California\, por sus contribuciones al mundo de los cómics. \n\n\n\nEs autor posee una vasta obra en la que conviven historietas\, ilustraciones de textos infantiles\, animaciones y doblajes de series de televisión.
URL:https://www.centroturisticovirtual.com/calendario/event/exposicion-gratuita-de-tiras-comicas-de-trino/
LOCATION:Manzana de la Rivera\, El Paraguayo Independiente\, Asunción 001012\, Asunción\, Paraguay
ATTACH;FMTTYPE=image/jpeg:https://www.centroturisticovirtual.com/calendario/wp-content/uploads/2024/09/Trino-1-1-scaled.jpg
GEO:-25.277737447125;-57.637463843131
X-APPLE-STRUCTURED-LOCATION;VALUE=URI;X-ADDRESS=Manzana de la Rivera El Paraguayo Independiente Asunción 001012 Asunción Paraguay;X-APPLE-RADIUS=500;X-TITLE=El Paraguayo Independiente\, Asunción 001012:geo:-57.637463843131,-25.277737447125
END:VEVENT
BEGIN:VEVENT
DTSTART;TZID=UTC:20240926T190000
DTEND;TZID=UTC:20240926T210000
DTSTAMP:20260423T211014
CREATED:20240924T182935Z
LAST-MODIFIED:20240924T182937Z
UID:10000099-1727377200-1727384400@www.centroturisticovirtual.com
SUMMARY:Conversatorio sobre "Psicoanálisis e investigación en la Universidad.
DESCRIPTION:Vigencia de la clínica Psicoanalítica en era Post Pandemia\, a cargo del prof. Marco Rubén Alfieri. Biblioteca Municipal Augusto Roa Bastos
URL:https://www.centroturisticovirtual.com/calendario/event/conversatorio-sobre-psicoanalisis-e-investigacion-en-la-universidad/
LOCATION:Manzana de la Rivera\, El Paraguayo Independiente\, Asunción 001012\, Asunción\, Paraguay
ATTACH;FMTTYPE=image/jpeg:https://www.centroturisticovirtual.com/calendario/wp-content/uploads/2024/09/eqvyvrpovoj2rpn1jcmq.jpg
GEO:-25.277737447125;-57.637463843131
X-APPLE-STRUCTURED-LOCATION;VALUE=URI;X-ADDRESS=Manzana de la Rivera El Paraguayo Independiente Asunción 001012 Asunción Paraguay;X-APPLE-RADIUS=500;X-TITLE=El Paraguayo Independiente\, Asunción 001012:geo:-57.637463843131,-25.277737447125
END:VEVENT
BEGIN:VEVENT
DTSTART;TZID=UTC:20240926T200000
DTEND;TZID=UTC:20240926T220000
DTSTAMP:20260423T211014
CREATED:20240924T183526Z
LAST-MODIFIED:20240924T183527Z
UID:10000100-1727380800-1727388000@www.centroturisticovirtual.com
SUMMARY:Concierto de la Orquesta Sinfónica Nacional
DESCRIPTION:Concierto organizado conjuntamente con la Fundación Florencia. Con acceso libre y gratuito. \n\n\n\nEn la oportunidad se escucharán obras de G. Bizet\, E. Elgar; y de E. W. Korngold. \n\n\n\nLa dirección estará a cargo del maestro José Ariel Ramírez; y se contará con la participación de la niña prodigio del violín\, la talentosa Pilar Policano (Argentina).
URL:https://www.centroturisticovirtual.com/calendario/event/concierto-de-la-orquesta-sinfonica-nacional/
LOCATION:Teatro Municipal\, Pdte. Franco entre\, Chile y\, Asunción\, Asunción\, Paraguay
ATTACH;FMTTYPE=image/jpeg:https://www.centroturisticovirtual.com/calendario/wp-content/uploads/2024/09/k280jorlpknondv3kkxw.jpg
GEO:-25.280987448548;-57.634167727789
X-APPLE-STRUCTURED-LOCATION;VALUE=URI;X-ADDRESS=Teatro Municipal Pdte. Franco entre Chile y Asunción Asunción Paraguay;X-APPLE-RADIUS=500;X-TITLE=Pdte. Franco entre\, Chile y\, Asunción:geo:-57.634167727789,-25.280987448548
END:VEVENT
BEGIN:VEVENT
DTSTART;TZID=UTC:20240926T200000
DTEND;TZID=UTC:20240926T220000
DTSTAMP:20260423T211014
CREATED:20240925T121041Z
LAST-MODIFIED:20240925T121042Z
UID:10000108-1727380800-1727388000@www.centroturisticovirtual.com
SUMMARY:Concierto del “Ciclo de Conciertos de Extensión Cultural” de la OCMA
DESCRIPTION:Bajo la dirección del maestro Miguel Ángel Echeverría y la participación especial de los solistas invitados: Juan Gerardo Ayala(flauta)\, cantantes: Fernando Martínez (ex cumbreño)\, Jorge Servían y Matías Suarez.Club Nueva Estrella(Tte. 1° Teófilo del Puerto y Victoriano Bueno – Barrio Villa Aurelia)Acceso libre y gratuito
URL:https://www.centroturisticovirtual.com/calendario/event/concierto-del-ciclo-de-conciertos-de-extension-cultural-de-la-ocma/
LOCATION:Otras Actividades\, Asunción\, Paraguay
ATTACH;FMTTYPE=image/jpeg:https://www.centroturisticovirtual.com/calendario/wp-content/uploads/2024/09/miguel-angel-echeverria-scaled-1.jpg
END:VEVENT
BEGIN:VEVENT
DTSTART;TZID=UTC:20240927T210000
DTEND;TZID=UTC:20240927T220000
DTSTAMP:20260423T211014
CREATED:20240924T184724Z
LAST-MODIFIED:20240924T200646Z
UID:10000102-1727470800-1727474400@www.centroturisticovirtual.com
SUMMARY:Obra Teatral. Cruz del chaco
DESCRIPTION:En conmemoración de la Batalla de Boquerón. Entradas 50.000 gs
URL:https://www.centroturisticovirtual.com/calendario/event/obra-teatral-cruz-del-chaco/
LOCATION:Teatro Municipal\, Pdte. Franco entre\, Chile y\, Asunción\, Asunción\, Paraguay
ATTACH;FMTTYPE=image/jpeg:https://www.centroturisticovirtual.com/calendario/wp-content/uploads/2024/08/teatro.jpg
GEO:-25.280987448548;-57.634167727789
X-APPLE-STRUCTURED-LOCATION;VALUE=URI;X-ADDRESS=Teatro Municipal Pdte. Franco entre Chile y Asunción Asunción Paraguay;X-APPLE-RADIUS=500;X-TITLE=Pdte. Franco entre\, Chile y\, Asunción:geo:-57.634167727789,-25.280987448548
END:VEVENT
BEGIN:VEVENT
DTSTART;TZID=UTC:20240928T110000
DTEND;TZID=UTC:20240928T230000
DTSTAMP:20260423T211014
CREATED:20240924T192941Z
LAST-MODIFIED:20240924T203648Z
UID:10000103-1727521200-1727564400@www.centroturisticovirtual.com
SUMMARY:Feria Palmear
DESCRIPTION:Ferias\, exposiciones\, presentaciones artísticas y mucho más. Calle Palma.
URL:https://www.centroturisticovirtual.com/calendario/event/feria-palmear/
ATTACH;FMTTYPE=image/jpeg:https://www.centroturisticovirtual.com/calendario/wp-content/uploads/2024/09/feria-palmear-calle-palma-gente-.jpg
END:VEVENT
BEGIN:VEVENT
DTSTART;TZID=UTC:20240928T160000
DTEND;TZID=UTC:20240928T170000
DTSTAMP:20260423T211014
CREATED:20240924T195050Z
LAST-MODIFIED:20240924T203432Z
UID:10000105-1727539200-1727542800@www.centroturisticovirtual.com
SUMMARY:CIRCUITO YO AMO ASU.
DESCRIPTION:Recorrido en bus Panorámico por el casco histórico de Asunción. Punto de encuentro: Centro de Información Turística (Av. José Asunción Flores- Costanera) Costo: 25.000 gs/ 12.000 gs menores. Por orden de llegada\, se abona en el lugar.
URL:https://www.centroturisticovirtual.com/calendario/event/circuito-yo-amo-asu/
ATTACH;FMTTYPE=image/jpeg:https://www.centroturisticovirtual.com/calendario/wp-content/uploads/2024/08/yoamo.jpg
END:VEVENT
BEGIN:VEVENT
DTSTART;TZID=UTC:20240928T200000
DTEND;TZID=UTC:20240928T210000
DTSTAMP:20260423T211014
CREATED:20240924T201441Z
LAST-MODIFIED:20240924T201442Z
UID:10000107-1727553600-1727557200@www.centroturisticovirtual.com
SUMMARY:Festival de danza Arte y Spazio
DESCRIPTION:Teatro “Agustín Barrios”
URL:https://www.centroturisticovirtual.com/calendario/event/festival-de-danza-arte-y-spazio/
LOCATION:Centro Paraguayo Japonés\, Domingo Portillo\, Asunción 001526\, Asunción\, Paraguay
ATTACH;FMTTYPE=image/jpeg:https://www.centroturisticovirtual.com/calendario/wp-content/uploads/2024/08/paraguayojapones.jpg
GEO:-25.272671425582;-57.563962164014
X-APPLE-STRUCTURED-LOCATION;VALUE=URI;X-ADDRESS=Centro Paraguayo Japonés Domingo Portillo Asunción 001526 Asunción Paraguay;X-APPLE-RADIUS=500;X-TITLE=Domingo Portillo\, Asunción 001526:geo:-57.563962164014,-25.272671425582
END:VEVENT
BEGIN:VEVENT
DTSTART;TZID=UTC:20240928T200000
DTEND;TZID=UTC:20240928T220000
DTSTAMP:20260423T211014
CREATED:20240925T121342Z
LAST-MODIFIED:20240925T121344Z
UID:10000109-1727553600-1727560800@www.centroturisticovirtual.com
SUMMARY:Lanzamiento oficial de la Orquesta Passionaria y presentación de su primer material discográfico.
DESCRIPTION:
URL:https://www.centroturisticovirtual.com/calendario/event/lanzamiento-oficial-de-la-orquesta-passionaria-y-presentacion-de-su-primer-material-discografico/
LOCATION:Teatro Municipal\, Pdte. Franco entre\, Chile y\, Asunción\, Asunción\, Paraguay
GEO:-25.280987448548;-57.634167727789
X-APPLE-STRUCTURED-LOCATION;VALUE=URI;X-ADDRESS=Teatro Municipal Pdte. Franco entre Chile y Asunción Asunción Paraguay;X-APPLE-RADIUS=500;X-TITLE=Pdte. Franco entre\, Chile y\, Asunción:geo:-57.634167727789,-25.280987448548
END:VEVENT
BEGIN:VEVENT
DTSTART;TZID=UTC:20240928T210000
DTEND;TZID=UTC:20240928T230000
DTSTAMP:20260423T211014
CREATED:20240924T195658Z
LAST-MODIFIED:20240924T200343Z
UID:10000106-1727557200-1727564400@www.centroturisticovirtual.com
SUMMARY:Wisdom presenta su nuevo álbum en la Manzana de la Rivera
DESCRIPTION:Este sábado 28 de septiembre la banda paraguaya de black metal Wisdom celebrará su 30º aniversario con un concierto en la Sala García Lorca de la Manzana de la Rivera (Ayolas 129). Este evento no solo marca tres décadas de presencia en la escena del metal extremo\, sino también el lanzamiento de su cuarto álbum de estudio\, titulado «Saint Algolagnia Immaculate». Las entradas están disponibles a través de Passline y en varios puntos de venta autorizados. \n\n\n\nA partir de las 21:00 h los asistentes podrán disfrutar de casi tres horas de presentación en vivo\, donde Wisdom repasará su vasta trayectoria\, abarcando todos sus lanzamientos hasta la fecha. El setlist está dividido en tres secciones\, en donde las primeras dos se construyeron tomando canciones de todas sus épocas\, mientras que durante el último segmento interpretarán el nuevo álbum en su totalidad.
URL:https://www.centroturisticovirtual.com/calendario/event/wisdom-presenta-su-nuevo-album-en-la-manzana-de-la-rivera/
LOCATION:Manzana de la Rivera\, El Paraguayo Independiente\, Asunción 001012\, Asunción\, Paraguay
ATTACH;FMTTYPE=image/jpeg:https://www.centroturisticovirtual.com/calendario/wp-content/uploads/2024/09/nguhedsq2icy0fbrpbvz.jpg
GEO:-25.277737447125;-57.637463843131
X-APPLE-STRUCTURED-LOCATION;VALUE=URI;X-ADDRESS=Manzana de la Rivera El Paraguayo Independiente Asunción 001012 Asunción Paraguay;X-APPLE-RADIUS=500;X-TITLE=El Paraguayo Independiente\, Asunción 001012:geo:-57.637463843131,-25.277737447125
END:VEVENT
BEGIN:VEVENT
DTSTART;TZID=UTC:20240929T090000
DTEND;TZID=UTC:20240929T130000
DTSTAMP:20260423T211014
CREATED:20240925T121837Z
LAST-MODIFIED:20240925T121838Z
UID:10000110-1727600400-1727614800@www.centroturisticovirtual.com
SUMMARY:Desfile Primavera como antes - EXAS en Movimiento Desfiles y Reencuentros
DESCRIPTION:Conmemoración de la Batalla de Boquerón – Palma desde México hasta 14 de Mayo.
URL:https://www.centroturisticovirtual.com/calendario/event/desfile-primavera-como-antes-exas-en-movimiento-desfiles-y-reencuentros/
LOCATION:Dirección de Acción Cultural\, Ayolas entre Jejui e Ygatimi\, Asunción\, Paraguay
GEO:-25.286723659894;-57.64371548546
X-APPLE-STRUCTURED-LOCATION;VALUE=URI;X-ADDRESS=Dirección de Acción Cultural Ayolas entre Jejui e Ygatimi Asunción Paraguay;X-APPLE-RADIUS=500;X-TITLE=Ayolas entre Jejui e Ygatimi:geo:-57.64371548546,-25.286723659894
END:VEVENT
BEGIN:VEVENT
DTSTART;TZID=UTC:20240929T200000
DTEND;TZID=UTC:20240930T200000
DTSTAMP:20260423T211014
CREATED:20240925T183407Z
LAST-MODIFIED:20240925T183409Z
UID:10000113-1727640000-1727726400@www.centroturisticovirtual.com
SUMMARY:Obra Teatral La habitación blanca de José María Miró en el Ciclo Cultural Primavera Teatral. Teatro Municipal Ignacio A. Pane
DESCRIPTION:La obra del prestigioso dramaturgo español Josep Maria Miró se presenta en la Sala Ignacio A. Pane del Teatro Municipal de Asunción\, en dos únicas funciones\, los días domingo 29 y lunes 30 de septiembre a las 19:00 horas. Entradas generales: Gs. 40.000. Disponibles para su compra anticipada a través de la red TUTI. También se podrán adquirir en la boletería del teatro. Más información 0992 410 426.  \n\n\n\nLa dirección y puesta en escena se encuentran a cargo del Maestro Agustín Núñez\, con un elenco conformado por reconocidas actrices y actores como Techi Pereira\, Natalia Cálcena\, Diego Mongelós y Diro Romero\, «La Habitación Blanca» promete una experiencia teatral emocionante.  \n\n\n\nLa trama sigue el reencuentro de Carlos\, Lía y Manuel con la señorita Meche\, su maestra de la infancia. A medida que los recuerdos afloran\, se enfrentan a las complejidades de sus vidas adultas\, abriendo interrogantes y reviviendo antiguas heridas. Nadie\, ni siquiera la querida maestra\, puede escapar al impacto de este encuentro con el pasado. \n\n\n\n«La Habitación Blanca» invita al espectador a un viaje emocional hacia los paisajes íntimos de la niñez\, explorando los sueños y aspiraciones de la infancia contrastados con la realidad de la vida adulta. Es un relato que habla de la inevitabilidad del crecimiento\, los sacrificios realizados y los recuerdos que se entierran en el camino. \n\n\n\nMás Información:📲 \n\n\n\n0992 888 826
URL:https://www.centroturisticovirtual.com/calendario/event/obra-teatral-la-habitacion-blanca-de-jose-maria-miro-en-el-ciclo-cultural-primavera-teatral-teatro-municipal-ignacio-a-pane/
LOCATION:Teatro Municipal\, Pdte. Franco entre\, Chile y\, Asunción\, Asunción\, Paraguay
ATTACH;FMTTYPE=image/jpeg:https://www.centroturisticovirtual.com/calendario/wp-content/uploads/2024/09/WhatsApp-Image-2024-09-25-at-14.33.02.jpeg
GEO:-25.280987448548;-57.634167727789
X-APPLE-STRUCTURED-LOCATION;VALUE=URI;X-ADDRESS=Teatro Municipal Pdte. Franco entre Chile y Asunción Asunción Paraguay;X-APPLE-RADIUS=500;X-TITLE=Pdte. Franco entre\, Chile y\, Asunción:geo:-57.634167727789,-25.280987448548
END:VEVENT
BEGIN:VEVENT
DTSTART;TZID=UTC:20240929T203000
DTEND;TZID=UTC:20240929T220000
DTSTAMP:20260423T211014
CREATED:20240925T122111Z
LAST-MODIFIED:20240925T122159Z
UID:10000111-1727641800-1727647200@www.centroturisticovirtual.com
SUMMARY:Festival de danza. Teatro “Agustín Barrios”.
DESCRIPTION:
URL:https://www.centroturisticovirtual.com/calendario/event/festival-de-danza-teatro-agustin-barrios-2/
LOCATION:Centro Paraguayo Japonés\, Domingo Portillo\, Asunción 001526\, Asunción\, Paraguay
ATTACH;FMTTYPE=image/jpeg:https://www.centroturisticovirtual.com/calendario/wp-content/uploads/2024/08/paraguayojapones.jpg
GEO:-25.272671425582;-57.563962164014
X-APPLE-STRUCTURED-LOCATION;VALUE=URI;X-ADDRESS=Centro Paraguayo Japonés Domingo Portillo Asunción 001526 Asunción Paraguay;X-APPLE-RADIUS=500;X-TITLE=Domingo Portillo\, Asunción 001526:geo:-57.563962164014,-25.272671425582
END:VEVENT
BEGIN:VEVENT
DTSTART;TZID=UTC:20240930T193000
DTEND;TZID=UTC:20240930T210000
DTSTAMP:20260423T211014
CREATED:20240925T122350Z
LAST-MODIFIED:20240925T122351Z
UID:10000112-1727724600-1727730000@www.centroturisticovirtual.com
SUMMARY:Clausura de Actividades - Kindergarten Spiele und Co. Teatro “Agustín Barrios”.
DESCRIPTION:
URL:https://www.centroturisticovirtual.com/calendario/event/clausura-de-actividades-kindergarten-spiele-und-co-teatro-agustin-barrios/
LOCATION:Centro Paraguayo Japonés\, Domingo Portillo\, Asunción 001526\, Asunción\, Paraguay
ATTACH;FMTTYPE=image/jpeg:https://www.centroturisticovirtual.com/calendario/wp-content/uploads/2024/08/paraguayojapones.jpg
GEO:-25.272671425582;-57.563962164014
X-APPLE-STRUCTURED-LOCATION;VALUE=URI;X-ADDRESS=Centro Paraguayo Japonés Domingo Portillo Asunción 001526 Asunción Paraguay;X-APPLE-RADIUS=500;X-TITLE=Domingo Portillo\, Asunción 001526:geo:-57.563962164014,-25.272671425582
END:VEVENT
END:VCALENDAR