BEGIN:VCALENDAR
VERSION:2.0
PRODID:-//Centro Turístico Virtual - ECPv6.6.1//NONSGML v1.0//EN
CALSCALE:GREGORIAN
METHOD:PUBLISH
X-WR-CALNAME:Centro Turístico Virtual
X-ORIGINAL-URL:https://www.centroturisticovirtual.com/calendario
X-WR-CALDESC:Eventos para Centro Turístico Virtual
REFRESH-INTERVAL;VALUE=DURATION:PT1H
X-Robots-Tag:noindex
X-PUBLISHED-TTL:PT1H
BEGIN:VTIMEZONE
TZID:UTC
BEGIN:STANDARD
TZOFFSETFROM:+0000
TZOFFSETTO:+0000
TZNAME:UTC
DTSTART:20240101T000000
END:STANDARD
END:VTIMEZONE
BEGIN:VEVENT
DTSTART;TZID=UTC:20241113T200000
DTEND;TZID=UTC:20241231T230000
DTSTAMP:20260423T192226
CREATED:20240926T171208Z
LAST-MODIFIED:20240926T171210Z
UID:10000136-1731528000-1735686000@www.centroturisticovirtual.com
SUMMARY:Recorrido Turístico a bordo de la Carreta de la Alegría
DESCRIPTION:Recorrido Turístico a bordo de la Carreta de la Alegría por la costanera de Asunción hasta el puente Héroes del Chaco. Punto de embarque y desembarque: Avda. José Asunción Flores\, frente al Parque Bicentenario (Inmediaciones de la rueda de la fortuna). Costo: G 40.000 – venta anticipada de tickets a traves de www.asuncion.live
URL:https://www.centroturisticovirtual.com/calendario/event/recorrido-turistico-a-bordo-de-la-carreta-de-la-alegria/
LOCATION:Otras Actividades\, Asunción\, Paraguay
ATTACH;FMTTYPE=image/jpeg:https://www.centroturisticovirtual.com/calendario/wp-content/uploads/2024/09/puente-heroes-del-chaco-scaled.jpeg
END:VEVENT
BEGIN:VEVENT
DTSTART;TZID=UTC:20241114T080000
DTEND;TZID=UTC:20241130T170000
DTSTAMP:20260423T192226
CREATED:20240926T180816Z
LAST-MODIFIED:20240926T180817Z
UID:10000154-1731571200-1732986000@www.centroturisticovirtual.com
SUMMARY:Muestra Toro itinerante de Pucará
DESCRIPTION:Espacio Miguel Acevedo – Manzana de la Rivera \n\n\n\nMuestra de cerámicas del Perú. Organiza la Embajada del Perú
URL:https://www.centroturisticovirtual.com/calendario/event/muestra-toro-itinerante-de-pucara/
LOCATION:Manzana de la Rivera\, El Paraguayo Independiente\, Asunción 001012\, Asunción\, Paraguay
ATTACH;FMTTYPE=image/jpeg:https://www.centroturisticovirtual.com/calendario/wp-content/uploads/2024/09/Toro-itinerante-de-Pucara-scaled.jpg
GEO:-25.277737447125;-57.637463843131
X-APPLE-STRUCTURED-LOCATION;VALUE=URI;X-ADDRESS=Manzana de la Rivera El Paraguayo Independiente Asunción 001012 Asunción Paraguay;X-APPLE-RADIUS=500;X-TITLE=El Paraguayo Independiente\, Asunción 001012:geo:-57.637463843131,-25.277737447125
END:VEVENT
END:VCALENDAR