BEGIN:VCALENDAR
VERSION:2.0
PRODID:-//Centro Turístico Virtual - ECPv6.6.1//NONSGML v1.0//EN
CALSCALE:GREGORIAN
METHOD:PUBLISH
X-WR-CALNAME:Centro Turístico Virtual
X-ORIGINAL-URL:https://www.centroturisticovirtual.com/calendario
X-WR-CALDESC:Eventos para Centro Turístico Virtual
REFRESH-INTERVAL;VALUE=DURATION:PT1H
X-Robots-Tag:noindex
X-PUBLISHED-TTL:PT1H
BEGIN:VTIMEZONE
TZID:UTC
BEGIN:STANDARD
TZOFFSETFROM:+0000
TZOFFSETTO:+0000
TZNAME:UTC
DTSTART:20240101T000000
END:STANDARD
END:VTIMEZONE
BEGIN:VEVENT
DTSTART;TZID=UTC:20241107T120000
DTEND;TZID=UTC:20241107T120000
DTSTAMP:20260423T192217
CREATED:20241104T175149Z
LAST-MODIFIED:20241104T175150Z
UID:10000180-1730980800-1730980800@www.centroturisticovirtual.com
SUMMARY:Intervención musical en el  Mercado N° 4
DESCRIPTION:Con la presentación de Giovanni Mbae Trío\, en el marco del Homenaje a Carlos Schvartzman
URL:https://www.centroturisticovirtual.com/calendario/event/intervencion-musical-en-el-mercado-n-4/
ATTACH;FMTTYPE=image/jpeg:https://www.centroturisticovirtual.com/calendario/wp-content/uploads/2024/11/captura_de_pantalla_2021-08-27_a_las_18.36.33-2.jpg
END:VEVENT
BEGIN:VEVENT
DTSTART;TZID=UTC:20241107T190000
DTEND;TZID=UTC:20241107T190000
DTSTAMP:20260423T192217
CREATED:20241104T180741Z
LAST-MODIFIED:20241104T180743Z
UID:10000183-1731006000-1731006000@www.centroturisticovirtual.com
SUMMARY:Festival de Danzas Belén Zarza.
DESCRIPTION:Teatro “Agustín Barrios” del CPJ. Contacto: 0981295133.
URL:https://www.centroturisticovirtual.com/calendario/event/festival-de-danzas-belen-zarza/
LOCATION:Centro Paraguayo Japonés\, Domingo Portillo\, Asunción 001526\, Asunción\, Paraguay
ATTACH;FMTTYPE=image/jpeg:https://www.centroturisticovirtual.com/calendario/wp-content/uploads/2024/08/paraguayojapones.jpg
GEO:-25.272671425582;-57.563962164014
X-APPLE-STRUCTURED-LOCATION;VALUE=URI;X-ADDRESS=Centro Paraguayo Japonés Domingo Portillo Asunción 001526 Asunción Paraguay;X-APPLE-RADIUS=500;X-TITLE=Domingo Portillo\, Asunción 001526:geo:-57.563962164014,-25.272671425582
END:VEVENT
BEGIN:VEVENT
DTSTART;TZID=UTC:20241107T193000
DTEND;TZID=UTC:20241107T193000
DTSTAMP:20260423T192217
CREATED:20241104T175602Z
LAST-MODIFIED:20241104T182244Z
UID:10000182-1731007800-1731007800@www.centroturisticovirtual.com
SUMMARY:Inauguración de la exposición colectiva “Escenografías en naif”
DESCRIPTION:Con la curaduría de María Eugenia Ruíz. Apoya Verónica Torres con acceso libre y gratuito.
URL:https://www.centroturisticovirtual.com/calendario/event/inauguracion-de-la-exposicion-colectiva-escenografias-en-naif/
LOCATION:Manzana de la Rivera
ATTACH;FMTTYPE=image/jpeg:https://www.centroturisticovirtual.com/calendario/wp-content/uploads/2024/08/manzana.jpg
END:VEVENT
BEGIN:VEVENT
DTSTART;TZID=UTC:20241107T200000
DTEND;TZID=UTC:20241107T200000
DTSTAMP:20260423T192217
CREATED:20241104T181308Z
LAST-MODIFIED:20241104T181310Z
UID:10000185-1731009600-1731009600@www.centroturisticovirtual.com
SUMMARY:"Asunción Jazz Night"
DESCRIPTION:Concierto «Asunción Jazz Night» en el Teatro de las Américas\, Centro Cultural Paraguayo Americano (CCPA). Con la participación de CCPA Jazz Quintet\, Pier Pappalardo Cuarteto\, Pedro Martínez Trío y Majuja Trío + Jam Session en el marco del homenaje a Carlos Schvartzman.
URL:https://www.centroturisticovirtual.com/calendario/event/asuncion-jazz-night/
ATTACH;FMTTYPE=image/jpeg:https://www.centroturisticovirtual.com/calendario/wp-content/uploads/2024/11/WhatsApp-Image-2024-11-04-at-3.12.26-PM.jpeg
END:VEVENT
BEGIN:VEVENT
DTSTART;TZID=UTC:20241107T200000
DTEND;TZID=UTC:20241107T200000
DTSTAMP:20260423T192217
CREATED:20241104T181807Z
LAST-MODIFIED:20241104T181809Z
UID:10000186-1731009600-1731009600@www.centroturisticovirtual.com
SUMMARY:“El Zoológico de Cristal”
DESCRIPTION:Función de la obra de los alumnos de la EMAD “El Zoológico de Cristal” bajo la dirección del Prof. Silvio Rodas. Salón García Lorca de la Manzana de la Rivera. 
URL:https://www.centroturisticovirtual.com/calendario/event/el-zoologico-de-cristal/
LOCATION:Manzana de la Rivera\, El Paraguayo Independiente\, Asunción 001012\, Asunción\, Paraguay
ATTACH;FMTTYPE=image/jpeg:https://www.centroturisticovirtual.com/calendario/wp-content/uploads/2024/11/ima-emad.jpg
GEO:-25.277737447125;-57.637463843131
X-APPLE-STRUCTURED-LOCATION;VALUE=URI;X-ADDRESS=Manzana de la Rivera El Paraguayo Independiente Asunción 001012 Asunción Paraguay;X-APPLE-RADIUS=500;X-TITLE=El Paraguayo Independiente\, Asunción 001012:geo:-57.637463843131,-25.277737447125
END:VEVENT
BEGIN:VEVENT
DTSTART;TZID=UTC:20241107T200000
DTEND;TZID=UTC:20241107T220000
DTSTAMP:20260423T192217
CREATED:20241104T181035Z
LAST-MODIFIED:20241104T181037Z
UID:10000184-1731009600-1731016800@www.centroturisticovirtual.com
SUMMARY:Concierto de la OSCA por la paz.
DESCRIPTION:Teatro Municipal. Acceso libre y gratuito.
URL:https://www.centroturisticovirtual.com/calendario/event/concierto-de-la-osca-por-la-paz/
LOCATION:Teatro Municipal\, Pdte. Franco entre\, Chile y\, Asunción\, Asunción\, Paraguay
ATTACH;FMTTYPE=image/jpeg:https://www.centroturisticovirtual.com/calendario/wp-content/uploads/2024/11/OSCA-con-Coro-scaled.jpg
GEO:-25.280987448548;-57.634167727789
X-APPLE-STRUCTURED-LOCATION;VALUE=URI;X-ADDRESS=Teatro Municipal Pdte. Franco entre Chile y Asunción Asunción Paraguay;X-APPLE-RADIUS=500;X-TITLE=Pdte. Franco entre\, Chile y\, Asunción:geo:-57.634167727789,-25.280987448548
END:VEVENT
END:VCALENDAR