BEGIN:VCALENDAR
VERSION:2.0
PRODID:-//Centro Turístico Virtual - ECPv6.6.1//NONSGML v1.0//EN
CALSCALE:GREGORIAN
METHOD:PUBLISH
X-WR-CALNAME:Centro Turístico Virtual
X-ORIGINAL-URL:https://www.centroturisticovirtual.com/calendario
X-WR-CALDESC:Eventos para Centro Turístico Virtual
REFRESH-INTERVAL;VALUE=DURATION:PT1H
X-Robots-Tag:noindex
X-PUBLISHED-TTL:PT1H
BEGIN:VTIMEZONE
TZID:UTC
BEGIN:STANDARD
TZOFFSETFROM:+0000
TZOFFSETTO:+0000
TZNAME:UTC
DTSTART:20240101T000000
END:STANDARD
END:VTIMEZONE
BEGIN:VEVENT
DTSTART;TZID=UTC:20241106T090000
DTEND;TZID=UTC:20241106T110000
DTSTAMP:20260423T192118
CREATED:20241104T174025Z
LAST-MODIFIED:20241104T174026Z
UID:10000178-1730883600-1730890800@www.centroturisticovirtual.com
SUMMARY: Conociendo Asunción.
DESCRIPTION:Organizado por el Departamento de Audiovisual de la Manzana de la Rivera.
URL:https://www.centroturisticovirtual.com/calendario/event/conociendo-asuncion-2/
LOCATION:Manzana de la Rivera\, El Paraguayo Independiente\, Asunción 001012\, Asunción\, Paraguay
ATTACH;FMTTYPE=image/jpeg:https://www.centroturisticovirtual.com/calendario/wp-content/uploads/2024/08/manzana.jpg
GEO:-25.277737447125;-57.637463843131
X-APPLE-STRUCTURED-LOCATION;VALUE=URI;X-ADDRESS=Manzana de la Rivera El Paraguayo Independiente Asunción 001012 Asunción Paraguay;X-APPLE-RADIUS=500;X-TITLE=El Paraguayo Independiente\, Asunción 001012:geo:-57.637463843131,-25.277737447125
END:VEVENT
BEGIN:VEVENT
DTSTART;TZID=UTC:20241106T190000
DTEND;TZID=UTC:20241106T190000
DTSTAMP:20260423T192118
CREATED:20241104T174319Z
LAST-MODIFIED:20241104T174321Z
UID:10000179-1730919600-1730919600@www.centroturisticovirtual.com
SUMMARY:Festival Clausura “Un mundo de Celebraciones”
DESCRIPTION:Escuela de Danza Marisol Valdez
URL:https://www.centroturisticovirtual.com/calendario/event/festival-clausura-un-mundo-de-celebraciones/
LOCATION:Centro Paraguayo Japonés\, Domingo Portillo\, Asunción 001526\, Asunción\, Paraguay
ATTACH;FMTTYPE=image/jpeg:https://www.centroturisticovirtual.com/calendario/wp-content/uploads/2024/08/paraguayojapones.jpg
GEO:-25.272671425582;-57.563962164014
X-APPLE-STRUCTURED-LOCATION;VALUE=URI;X-ADDRESS=Centro Paraguayo Japonés Domingo Portillo Asunción 001526 Asunción Paraguay;X-APPLE-RADIUS=500;X-TITLE=Domingo Portillo\, Asunción 001526:geo:-57.563962164014,-25.272671425582
END:VEVENT
END:VCALENDAR