BEGIN:VCALENDAR
VERSION:2.0
PRODID:-//Centro Turístico Virtual - ECPv6.6.1//NONSGML v1.0//EN
CALSCALE:GREGORIAN
METHOD:PUBLISH
X-WR-CALNAME:Centro Turístico Virtual
X-ORIGINAL-URL:https://www.centroturisticovirtual.com/calendario
X-WR-CALDESC:Eventos para Centro Turístico Virtual
REFRESH-INTERVAL;VALUE=DURATION:PT1H
X-Robots-Tag:noindex
X-PUBLISHED-TTL:PT1H
BEGIN:VTIMEZONE
TZID:UTC
BEGIN:STANDARD
TZOFFSETFROM:+0000
TZOFFSETTO:+0000
TZNAME:UTC
DTSTART:20240101T000000
END:STANDARD
END:VTIMEZONE
BEGIN:VEVENT
DTSTART;TZID=UTC:20241016T080000
DTEND;TZID=UTC:20241030T170000
DTSTAMP:20260423T210527
CREATED:20240926T163205Z
LAST-MODIFIED:20240926T163206Z
UID:10000127-1729065600-1730307600@www.centroturisticovirtual.com
SUMMARY:Exposición de Graciela Molinas
DESCRIPTION:Espacio Miguel Acevedo de la Manzana de la Rivera
URL:https://www.centroturisticovirtual.com/calendario/event/exposicion-de-graciela-molinas/
LOCATION:Manzana de la Rivera\, El Paraguayo Independiente\, Asunción 001012\, Asunción\, Paraguay
ATTACH;FMTTYPE=image/jpeg:https://www.centroturisticovirtual.com/calendario/wp-content/uploads/2024/09/Graciela-Molinas.jpg
GEO:-25.277737447125;-57.637463843131
X-APPLE-STRUCTURED-LOCATION;VALUE=URI;X-ADDRESS=Manzana de la Rivera El Paraguayo Independiente Asunción 001012 Asunción Paraguay;X-APPLE-RADIUS=500;X-TITLE=El Paraguayo Independiente\, Asunción 001012:geo:-57.637463843131,-25.277737447125
END:VEVENT
BEGIN:VEVENT
DTSTART;TZID=UTC:20241020T200000
DTEND;TZID=UTC:20241020T200000
DTSTAMP:20260423T210527
CREATED:20240926T171510Z
LAST-MODIFIED:20240926T171533Z
UID:10000137-1729454400-1729454400@www.centroturisticovirtual.com
SUMMARY:Concierto de la banda Pop-rock "Amelia"
DESCRIPTION:Salón García Lorca \n\n\n\nBanda de Pop Rock «Música apta para todo público» formada en el año 2019 en Asunción Paraguay formada por David Moreno\, Ariel Acosta\, Tito Bustamante\, Joel Ortiz\, Nico Canese.
URL:https://www.centroturisticovirtual.com/calendario/event/concierto-de-la-banda-pop-rock-amelia/
LOCATION:Manzana de la Rivera\, El Paraguayo Independiente\, Asunción 001012\, Asunción\, Paraguay
ATTACH;FMTTYPE=image/jpeg:https://www.centroturisticovirtual.com/calendario/wp-content/uploads/2024/09/Amelia-Grupo.jpg
GEO:-25.277737447125;-57.637463843131
X-APPLE-STRUCTURED-LOCATION;VALUE=URI;X-ADDRESS=Manzana de la Rivera El Paraguayo Independiente Asunción 001012 Asunción Paraguay;X-APPLE-RADIUS=500;X-TITLE=El Paraguayo Independiente\, Asunción 001012:geo:-57.637463843131,-25.277737447125
END:VEVENT
END:VCALENDAR