BEGIN:VCALENDAR
VERSION:2.0
PRODID:-//Centro Turístico Virtual - ECPv6.6.1//NONSGML v1.0//EN
CALSCALE:GREGORIAN
METHOD:PUBLISH
X-WR-CALNAME:Centro Turístico Virtual
X-ORIGINAL-URL:https://www.centroturisticovirtual.com/calendario
X-WR-CALDESC:Eventos para Centro Turístico Virtual
REFRESH-INTERVAL;VALUE=DURATION:PT1H
X-Robots-Tag:noindex
X-PUBLISHED-TTL:PT1H
BEGIN:VTIMEZONE
TZID:UTC
BEGIN:STANDARD
TZOFFSETFROM:+0000
TZOFFSETTO:+0000
TZNAME:UTC
DTSTART:20240101T000000
END:STANDARD
END:VTIMEZONE
BEGIN:VEVENT
DTSTART;TZID=UTC:20241015T183000
DTEND;TZID=UTC:20241015T183000
DTSTAMP:20260423T210745
CREATED:20241002T193235Z
LAST-MODIFIED:20241002T193237Z
UID:10000167-1729017000-1729017000@www.centroturisticovirtual.com
SUMMARY:"Petronita Vinader y su Descendencia Artística"
DESCRIPTION:
URL:https://www.centroturisticovirtual.com/calendario/event/petronita-vinader-y-su-descendencia-artistica/
LOCATION:Teatro Municipal\, Pdte. Franco entre\, Chile y\, Asunción\, Asunción\, Paraguay
ATTACH;FMTTYPE=image/jpeg:https://www.centroturisticovirtual.com/calendario/wp-content/uploads/2024/08/teatro.jpg
GEO:-25.280987448548;-57.634167727789
X-APPLE-STRUCTURED-LOCATION;VALUE=URI;X-ADDRESS=Teatro Municipal Pdte. Franco entre Chile y Asunción Asunción Paraguay;X-APPLE-RADIUS=500;X-TITLE=Pdte. Franco entre\, Chile y\, Asunción:geo:-57.634167727789,-25.280987448548
END:VEVENT
BEGIN:VEVENT
DTSTART;TZID=UTC:20241015T190000
DTEND;TZID=UTC:20241015T190000
DTSTAMP:20260423T210745
CREATED:20240926T162417Z
LAST-MODIFIED:20240926T162418Z
UID:10000125-1729018800-1729018800@www.centroturisticovirtual.com
SUMMARY:Lanzamineto de Cosmografía Chamacoco. Fundación Itaú
DESCRIPTION:Biblioteca Municipal \n\n\n\nEs libro constituye una documentación de la cosmogonía del pequeño grupo étnico chamacoco de Paraguay. Guillermo Sequera ha visitado a los chamacocos durante un prolongado periodo de tiempo. Ogwa Flores Balbuena y Wulky Dohoråta\, dos representantes chamacocos\, han producido los vividos dibujos. Las leyendas\, mitos y relatos del origen y evolución de nuestro mundo han sobrevivido\, incluso a pesar de la opresión de los grupos étnicos por los colonizadores y de la agresividad de New Tribe Missions y de la cultura dominante todavía en expansión sobre sus reducidos territorios.
URL:https://www.centroturisticovirtual.com/calendario/event/lanzamineto-de-cosmografia-chamacoco-fundacion-itau/
LOCATION:Manzana de la Rivera\, El Paraguayo Independiente\, Asunción 001012\, Asunción\, Paraguay
ATTACH;FMTTYPE=image/jpeg:https://www.centroturisticovirtual.com/calendario/wp-content/uploads/2024/09/CHAMACOCO-COSMOGRAFIA.jpg
GEO:-25.277737447125;-57.637463843131
X-APPLE-STRUCTURED-LOCATION;VALUE=URI;X-ADDRESS=Manzana de la Rivera El Paraguayo Independiente Asunción 001012 Asunción Paraguay;X-APPLE-RADIUS=500;X-TITLE=El Paraguayo Independiente\, Asunción 001012:geo:-57.637463843131,-25.277737447125
END:VEVENT
BEGIN:VEVENT
DTSTART;TZID=UTC:20241015T190000
DTEND;TZID=UTC:20241015T190000
DTSTAMP:20260423T210745
CREATED:20241004T143939Z
LAST-MODIFIED:20241004T143941Z
UID:10000168-1729018800-1729018800@www.centroturisticovirtual.com
SUMMARY:"Noche de Boleros" de la Embajada de México
DESCRIPTION:Evento a confirmar
URL:https://www.centroturisticovirtual.com/calendario/event/noche-de-boleros-de-la-embajada-de-mexico/
LOCATION:Teatro Municipal\, Pdte. Franco entre\, Chile y\, Asunción\, Asunción\, Paraguay
ATTACH;FMTTYPE=image/jpeg:https://www.centroturisticovirtual.com/calendario/wp-content/uploads/2024/08/teatro.jpg
GEO:-25.280987448548;-57.634167727789
X-APPLE-STRUCTURED-LOCATION;VALUE=URI;X-ADDRESS=Teatro Municipal Pdte. Franco entre Chile y Asunción Asunción Paraguay;X-APPLE-RADIUS=500;X-TITLE=Pdte. Franco entre\, Chile y\, Asunción:geo:-57.634167727789,-25.280987448548
END:VEVENT
END:VCALENDAR