BEGIN:VCALENDAR
VERSION:2.0
PRODID:-//Centro Turístico Virtual - ECPv6.6.1//NONSGML v1.0//EN
CALSCALE:GREGORIAN
METHOD:PUBLISH
X-WR-CALNAME:Centro Turístico Virtual
X-ORIGINAL-URL:https://www.centroturisticovirtual.com/calendario
X-WR-CALDESC:Eventos para Centro Turístico Virtual
REFRESH-INTERVAL;VALUE=DURATION:PT1H
X-Robots-Tag:noindex
X-PUBLISHED-TTL:PT1H
BEGIN:VTIMEZONE
TZID:UTC
BEGIN:STANDARD
TZOFFSETFROM:+0000
TZOFFSETTO:+0000
TZNAME:UTC
DTSTART:20240101T000000
END:STANDARD
END:VTIMEZONE
BEGIN:VEVENT
DTSTART;TZID=UTC:20241011T080000
DTEND;TZID=UTC:20241013T210000
DTSTAMP:20260423T210657
CREATED:20240926T161930Z
LAST-MODIFIED:20240926T161932Z
UID:10000124-1728633600-1728853200@www.centroturisticovirtual.com
SUMMARY:FERIA INTERNACIONAL DE TURISMO
DESCRIPTION:Participación como expositores. Evento de unión de toda la oferta turística nacional e internacional\, escenario del trade turístico para la consecución de negocios y alianzas del sector. Centro de convenciones del Mcal. López. Acceso libre y gratuito.
URL:https://www.centroturisticovirtual.com/calendario/event/feria-internacional-de-turismo/
LOCATION:Otras Actividades\, Asunción\, Paraguay
ATTACH;FMTTYPE=image/jpeg:https://www.centroturisticovirtual.com/calendario/wp-content/uploads/2024/09/fitpar.jpeg
END:VEVENT
BEGIN:VEVENT
DTSTART;TZID=UTC:20241012T200000
DTEND;TZID=UTC:20241012T200000
DTSTAMP:20260423T210657
CREATED:20240926T181033Z
LAST-MODIFIED:20240926T181034Z
UID:10000155-1728763200-1728763200@www.centroturisticovirtual.com
SUMMARY:Festival de Danza
DESCRIPTION:Teatro “Agustín Barrios” – CPJ. Contacto: Maria Asunción Valdez\, 0984 369857
URL:https://www.centroturisticovirtual.com/calendario/event/festival-de-danza/
LOCATION:Centro Paraguayo Japonés\, Domingo Portillo\, Asunción 001526\, Asunción\, Paraguay
ATTACH;FMTTYPE=image/jpeg:https://www.centroturisticovirtual.com/calendario/wp-content/uploads/2024/08/paraguayojapones.jpg
GEO:-25.272671425582;-57.563962164014
X-APPLE-STRUCTURED-LOCATION;VALUE=URI;X-ADDRESS=Centro Paraguayo Japonés Domingo Portillo Asunción 001526 Asunción Paraguay;X-APPLE-RADIUS=500;X-TITLE=Domingo Portillo\, Asunción 001526:geo:-57.563962164014,-25.272671425582
END:VEVENT
END:VCALENDAR