BEGIN:VCALENDAR
VERSION:2.0
PRODID:-//Centro Turístico Virtual - ECPv6.6.1//NONSGML v1.0//EN
CALSCALE:GREGORIAN
METHOD:PUBLISH
X-ORIGINAL-URL:https://www.centroturisticovirtual.com/calendario
X-WR-CALDESC:Eventos para Centro Turístico Virtual
REFRESH-INTERVAL;VALUE=DURATION:PT1H
X-Robots-Tag:noindex
X-PUBLISHED-TTL:PT1H
BEGIN:VTIMEZONE
TZID:UTC
BEGIN:STANDARD
TZOFFSETFROM:+0000
TZOFFSETTO:+0000
TZNAME:UTC
DTSTART:20240101T000000
END:STANDARD
END:VTIMEZONE
BEGIN:VEVENT
DTSTART;TZID=UTC:20241004T080000
DTEND;TZID=UTC:20241011T200000
DTSTAMP:20260423T210750
CREATED:20240924T193540Z
LAST-MODIFIED:20240924T193541Z
UID:10000104-1728028800-1728676800@www.centroturisticovirtual.com
SUMMARY:Cien años de magia cinematográfica: La vida y obra de Marcello Mastroianni en una muestra única
DESCRIPTION:La Embajada de Italia en Paraguay presentará una muestra de fotografías y afiches en homenaje al gran actor italiano Marcello Mastroianni en el centenario de su nacimiento. \n\n\n\nCon el apoyo de la Municipalidad de Asunción y el Centro Cultural de la Ciudad Carlos Colombino/Manzana de la Rivera\, la misma se realizará en el Espacio Miguel Acevedo del 4 al 11 de octubre\, con acceso libre y gratuito. \n\n\n\nLa muestra está organizada por la Associazione Culturale ENECEDETE (Italia) y el Centro Studi e Ricerca Marcello Mastroianni (Italia)\, con el patrocinio del Ministerio de Turismo de Italia\, ENIT Ente Nazionale del Turismo y la Región del Lazio. \n\n\n\nLa curaduría de la muestra es de Nestor Saied y Adriano Bruzzese.
URL:https://www.centroturisticovirtual.com/calendario/event/cien-anos-de-magia-cinematografica-la-vida-y-obra-de-marcello-mastroianni-en-una-muestra-unica/
LOCATION:Manzana de la Rivera\, El Paraguayo Independiente\, Asunción 001012\, Asunción\, Paraguay
ATTACH;FMTTYPE=image/jpeg:https://www.centroturisticovirtual.com/calendario/wp-content/uploads/2024/09/frupya6slxwbdnrwq6wt.jpg
GEO:-25.277737447125;-57.637463843131
X-APPLE-STRUCTURED-LOCATION;VALUE=URI;X-ADDRESS=Manzana de la Rivera El Paraguayo Independiente Asunción 001012 Asunción Paraguay;X-APPLE-RADIUS=500;X-TITLE=El Paraguayo Independiente\, Asunción 001012:geo:-57.637463843131,-25.277737447125
END:VEVENT
BEGIN:VEVENT
DTSTART;TZID=UTC:20241008T160000
DTEND;TZID=UTC:20241008T170000
DTSTAMP:20260423T210750
CREATED:20240926T162623Z
LAST-MODIFIED:20240926T162625Z
UID:10000126-1728403200-1728406800@www.centroturisticovirtual.com
SUMMARY:CIRCUITO YO AMO ASU
DESCRIPTION:Recorrido en bus Panorámico por el casco histórico de Asunción en el marco de “Ciudad Anfitriona” – Olimpiadas Especiales. Punto de encuentro: Centro de Información Turística (Av. José Asunción Flores- Costanera). Costo: 25.000 gs/ 12.000 gs menores. Por orden de llegada\, se abona en el lugar.
URL:https://www.centroturisticovirtual.com/calendario/event/circuito-yo-amo-asu-2/
LOCATION:Otras Actividades\, Asunción\, Paraguay
ATTACH;FMTTYPE=image/jpeg:https://www.centroturisticovirtual.com/calendario/wp-content/uploads/2024/09/open-bus-scaled.jpeg
END:VEVENT
BEGIN:VEVENT
DTSTART;TZID=UTC:20241008T170000
DTEND;TZID=UTC:20241008T180000
DTSTAMP:20260423T210750
CREATED:20240926T173237Z
LAST-MODIFIED:20240926T173239Z
UID:10000143-1728406800-1728410400@www.centroturisticovirtual.com
SUMMARY:CIRCUITO YO AMO ASU
DESCRIPTION:Recorrido en bus Panorámico por el casco histórico de Asunción en el marco de “Ciudad Anfitriona” – Olimpiadas Especiales. Punto de encuentro: Centro de Información Turística (Av. José Asunción Flores- Costanera). Costo: 25.000 gs/ 12.000 gs menores. Por orden de llegada\, se abona en el lugar.
URL:https://www.centroturisticovirtual.com/calendario/event/circuito-yo-amo-asu-5/
LOCATION:Otras Actividades\, Asunción\, Paraguay
ATTACH;FMTTYPE=image/jpeg:https://www.centroturisticovirtual.com/calendario/wp-content/uploads/2024/09/open-bus-scaled.jpeg
END:VEVENT
BEGIN:VEVENT
DTSTART;TZID=UTC:20241008T200000
DTEND;TZID=UTC:20241008T200000
DTSTAMP:20260423T210750
CREATED:20241002T185528Z
LAST-MODIFIED:20241002T185530Z
UID:10000162-1728417600-1728417600@www.centroturisticovirtual.com
SUMMARY:"Gracias por la Música 40 años"  - Denise Hentscholek
DESCRIPTION:
URL:https://www.centroturisticovirtual.com/calendario/event/gracias-por-la-musica-40-anos-denise-hentscholek/
LOCATION:Teatro Municipal\, Pdte. Franco entre\, Chile y\, Asunción\, Asunción\, Paraguay
ATTACH;FMTTYPE=image/jpeg:https://www.centroturisticovirtual.com/calendario/wp-content/uploads/2024/10/denisse.jpg
GEO:-25.280987448548;-57.634167727789
X-APPLE-STRUCTURED-LOCATION;VALUE=URI;X-ADDRESS=Teatro Municipal Pdte. Franco entre Chile y Asunción Asunción Paraguay;X-APPLE-RADIUS=500;X-TITLE=Pdte. Franco entre\, Chile y\, Asunción:geo:-57.634167727789,-25.280987448548
END:VEVENT
END:VCALENDAR