BEGIN:VCALENDAR
VERSION:2.0
PRODID:-//Centro Turístico Virtual - ECPv6.6.1//NONSGML v1.0//EN
CALSCALE:GREGORIAN
METHOD:PUBLISH
X-ORIGINAL-URL:https://www.centroturisticovirtual.com/calendario
X-WR-CALDESC:Eventos para Centro Turístico Virtual
REFRESH-INTERVAL;VALUE=DURATION:PT1H
X-Robots-Tag:noindex
X-PUBLISHED-TTL:PT1H
BEGIN:VTIMEZONE
TZID:UTC
BEGIN:STANDARD
TZOFFSETFROM:+0000
TZOFFSETTO:+0000
TZNAME:UTC
DTSTART:20240101T000000
END:STANDARD
END:VTIMEZONE
BEGIN:VEVENT
DTSTART;TZID=UTC:20241004T080000
DTEND;TZID=UTC:20241011T200000
DTSTAMP:20260423T210750
CREATED:20240924T193540Z
LAST-MODIFIED:20240924T193541Z
UID:10000104-1728028800-1728676800@www.centroturisticovirtual.com
SUMMARY:Cien años de magia cinematográfica: La vida y obra de Marcello Mastroianni en una muestra única
DESCRIPTION:La Embajada de Italia en Paraguay presentará una muestra de fotografías y afiches en homenaje al gran actor italiano Marcello Mastroianni en el centenario de su nacimiento. \n\n\n\nCon el apoyo de la Municipalidad de Asunción y el Centro Cultural de la Ciudad Carlos Colombino/Manzana de la Rivera\, la misma se realizará en el Espacio Miguel Acevedo del 4 al 11 de octubre\, con acceso libre y gratuito. \n\n\n\nLa muestra está organizada por la Associazione Culturale ENECEDETE (Italia) y el Centro Studi e Ricerca Marcello Mastroianni (Italia)\, con el patrocinio del Ministerio de Turismo de Italia\, ENIT Ente Nazionale del Turismo y la Región del Lazio. \n\n\n\nLa curaduría de la muestra es de Nestor Saied y Adriano Bruzzese.
URL:https://www.centroturisticovirtual.com/calendario/event/cien-anos-de-magia-cinematografica-la-vida-y-obra-de-marcello-mastroianni-en-una-muestra-unica/
LOCATION:Manzana de la Rivera\, El Paraguayo Independiente\, Asunción 001012\, Asunción\, Paraguay
ATTACH;FMTTYPE=image/jpeg:https://www.centroturisticovirtual.com/calendario/wp-content/uploads/2024/09/frupya6slxwbdnrwq6wt.jpg
GEO:-25.277737447125;-57.637463843131
X-APPLE-STRUCTURED-LOCATION;VALUE=URI;X-ADDRESS=Manzana de la Rivera El Paraguayo Independiente Asunción 001012 Asunción Paraguay;X-APPLE-RADIUS=500;X-TITLE=El Paraguayo Independiente\, Asunción 001012:geo:-57.637463843131,-25.277737447125
END:VEVENT
BEGIN:VEVENT
DTSTART;TZID=UTC:20241005T080000
DTEND;TZID=UTC:20241006T080000
DTSTAMP:20260423T210750
CREATED:20240926T172650Z
LAST-MODIFIED:20240926T172827Z
UID:10000141-1728115200-1728201600@www.centroturisticovirtual.com
SUMMARY:Concurso de Danza Lazos Paraguay 2024
DESCRIPTION:Teatro “Agustín Barrios”. Informes: Prof. Natalia Ramos 0981 170758. Costo de Entradas: 30.000 Gs.
URL:https://www.centroturisticovirtual.com/calendario/event/concurso-de-danza-lazos-paraguay-2024/
LOCATION:Centro Paraguayo Japonés\, Domingo Portillo\, Asunción 001526\, Asunción\, Paraguay
ATTACH;FMTTYPE=image/jpeg:https://www.centroturisticovirtual.com/calendario/wp-content/uploads/2024/08/paraguayojapones.jpg
GEO:-25.272671425582;-57.563962164014
X-APPLE-STRUCTURED-LOCATION;VALUE=URI;X-ADDRESS=Centro Paraguayo Japonés Domingo Portillo Asunción 001526 Asunción Paraguay;X-APPLE-RADIUS=500;X-TITLE=Domingo Portillo\, Asunción 001526:geo:-57.563962164014,-25.272671425582
END:VEVENT
BEGIN:VEVENT
DTSTART;TZID=UTC:20241006T100000
DTEND;TZID=UTC:20241006T110000
DTSTAMP:20260423T210750
CREATED:20240926T160928Z
LAST-MODIFIED:20240926T160930Z
UID:10000121-1728208800-1728212400@www.centroturisticovirtual.com
SUMMARY:SECRETOS DEL PALACIO
DESCRIPTION:Visita guiada al emblemático Palacio de López\, historias\, anécdotas\, arquitectura y mucho más. Punto de encuentro: Plaza de los desaparecidos. Agendamiento previo a través de Asunción live.
URL:https://www.centroturisticovirtual.com/calendario/event/secretos-del-palacio/
LOCATION:Otras Actividades\, Asunción\, Paraguay
ATTACH;FMTTYPE=image/jpeg:https://www.centroturisticovirtual.com/calendario/wp-content/uploads/2024/09/secretos-del-palacio.jpeg
END:VEVENT
BEGIN:VEVENT
DTSTART;TZID=UTC:20241006T110000
DTEND;TZID=UTC:20241006T120000
DTSTAMP:20260423T210750
CREATED:20240926T173020Z
LAST-MODIFIED:20240926T173022Z
UID:10000142-1728212400-1728216000@www.centroturisticovirtual.com
SUMMARY:SECRETOS DEL PALACIO
DESCRIPTION:Visita guiada al emblemático Palacio de López\, historias\, anécdotas\, arquitectura y mucho más. Punto de encuentro: Plaza de los desaparecidos. Agendamiento previo a través de Asunción live.
URL:https://www.centroturisticovirtual.com/calendario/event/secretos-del-palacio-3/
LOCATION:Otras Actividades\, Asunción\, Paraguay
ATTACH;FMTTYPE=image/jpeg:https://www.centroturisticovirtual.com/calendario/wp-content/uploads/2024/09/secretos-del-palacio.jpeg
END:VEVENT
BEGIN:VEVENT
DTSTART;TZID=UTC:20241006T180000
DTEND;TZID=UTC:20241006T180000
DTSTAMP:20260423T210750
CREATED:20241002T185014Z
LAST-MODIFIED:20241002T185016Z
UID:10000161-1728237600-1728237600@www.centroturisticovirtual.com
SUMMARY:17° Edición del Festival Mundial del Arpa
DESCRIPTION:Destacados artistas rendirán tributo a este virtuoso instrumento musical
URL:https://www.centroturisticovirtual.com/calendario/event/17-edicion-del-festival-mundial-del-arpa-3/
LOCATION:Teatro Municipal\, Pdte. Franco entre\, Chile y\, Asunción\, Asunción\, Paraguay
ATTACH;FMTTYPE=image/jpeg:https://www.centroturisticovirtual.com/calendario/wp-content/uploads/2024/10/arpa.jpeg
GEO:-25.280987448548;-57.634167727789
X-APPLE-STRUCTURED-LOCATION;VALUE=URI;X-ADDRESS=Teatro Municipal Pdte. Franco entre Chile y Asunción Asunción Paraguay;X-APPLE-RADIUS=500;X-TITLE=Pdte. Franco entre\, Chile y\, Asunción:geo:-57.634167727789,-25.280987448548
END:VEVENT
BEGIN:VEVENT
DTSTART;TZID=UTC:20241006T213000
DTEND;TZID=UTC:20241006T220000
DTSTAMP:20260423T210750
CREATED:20240926T160223Z
LAST-MODIFIED:20240926T160224Z
UID:10000119-1728250200-1728252000@www.centroturisticovirtual.com
SUMMARY:Concierto de la banda Garage 21
DESCRIPTION:Sala García Lorca de la Manzana de la Rivera
URL:https://www.centroturisticovirtual.com/calendario/event/concierto-de-la-banda-garage-21/
LOCATION:Manzana de la Rivera\, El Paraguayo Independiente\, Asunción 001012\, Asunción\, Paraguay
ATTACH;FMTTYPE=image/jpeg:https://www.centroturisticovirtual.com/calendario/wp-content/uploads/2024/09/Garage-21.jpg
GEO:-25.277737447125;-57.637463843131
X-APPLE-STRUCTURED-LOCATION;VALUE=URI;X-ADDRESS=Manzana de la Rivera El Paraguayo Independiente Asunción 001012 Asunción Paraguay;X-APPLE-RADIUS=500;X-TITLE=El Paraguayo Independiente\, Asunción 001012:geo:-57.637463843131,-25.277737447125
END:VEVENT
END:VCALENDAR