BEGIN:VCALENDAR
VERSION:2.0
PRODID:-//Centro Turístico Virtual - ECPv6.6.1//NONSGML v1.0//EN
CALSCALE:GREGORIAN
METHOD:PUBLISH
X-ORIGINAL-URL:https://www.centroturisticovirtual.com/calendario
X-WR-CALDESC:Eventos para Centro Turístico Virtual
REFRESH-INTERVAL;VALUE=DURATION:PT1H
X-Robots-Tag:noindex
X-PUBLISHED-TTL:PT1H
BEGIN:VTIMEZONE
TZID:UTC
BEGIN:STANDARD
TZOFFSETFROM:+0000
TZOFFSETTO:+0000
TZNAME:UTC
DTSTART:20240101T000000
END:STANDARD
END:VTIMEZONE
BEGIN:VEVENT
DTSTART;TZID=UTC:20241003T190000
DTEND;TZID=UTC:20241003T190000
DTSTAMP:20260423T210909
CREATED:20240926T150558Z
LAST-MODIFIED:20240926T150715Z
UID:10000116-1727982000-1727982000@www.centroturisticovirtual.com
SUMMARY:Lanzamiento de un cuaderno de partituras de Lorenzo Leguizamón
DESCRIPTION:Lanzamiento de un cuederno de partituras de Lorenzo Leguizamón \n\n\n\nLugar: Museo del Arpa – Manzana de la Rivera
URL:https://www.centroturisticovirtual.com/calendario/event/lanzamiento-de-un-cuaderno-de-partituras-de-lorenzo-leguizamon/
LOCATION:Manzana de la Rivera\, El Paraguayo Independiente\, Asunción 001012\, Asunción\, Paraguay
ATTACH;FMTTYPE=image/jpeg:https://www.centroturisticovirtual.com/calendario/wp-content/uploads/2024/09/Lorenzo-Leguizamon-1.jpg
GEO:-25.277737447125;-57.637463843131
X-APPLE-STRUCTURED-LOCATION;VALUE=URI;X-ADDRESS=Manzana de la Rivera El Paraguayo Independiente Asunción 001012 Asunción Paraguay;X-APPLE-RADIUS=500;X-TITLE=El Paraguayo Independiente\, Asunción 001012:geo:-57.637463843131,-25.277737447125
END:VEVENT
BEGIN:VEVENT
DTSTART;TZID=UTC:20241003T200000
DTEND;TZID=UTC:20241003T200000
DTSTAMP:20260423T210910
CREATED:20240926T151902Z
LAST-MODIFIED:20240926T151903Z
UID:10000117-1727985600-1727985600@www.centroturisticovirtual.com
SUMMARY:17° Edición del Festival Mundial del Arpa: Concierto de Nicolás Caballero y Amane Yamada (Japón)
DESCRIPTION:17° Edición del Festival Mundial del Arpa: Concierto de Nicolás Caballero y Amane Yamada (Japón) \n\n\n\nManzana de la Rivera \n\n\n\n𝐍𝐢𝐜𝐨𝐥𝐚́𝐬 𝐂𝐚𝐛𝐚𝐥𝐥𝐞𝐫𝐨\, 𝐮𝐧 𝐫𝐞𝐟𝐞𝐫𝐞𝐧𝐭𝐞 𝐝𝐞𝐥 𝐚𝐫𝐩𝐚 𝐩𝐚𝐫𝐚𝐠𝐮𝐚𝐲𝐚\, 𝐞𝐧 𝐞𝐥 𝐅𝐞𝐬𝐭𝐢𝐯𝐚𝐥 𝐌𝐮𝐧𝐝𝐢𝐚𝐥 𝐝𝐞𝐥 𝐀𝐫𝐩𝐚 🌟 \n\n\n\nConsiderado uno de los grandes maestros del arpa paraguaya\, Nicolás Caballero ha transformado la ejecución de este instrumento\, incorporando innovadoras técnicas que han ampliado sus posibilidades sonoras. \n\n\n\nDesde los 3 años\, ha dedicado su vida a la música\, consolidándose como un virtuoso compositor y arreglista. Su capacidad para interpretar tanto obras paraguayas como internacionales lo ha llevado a escenarios de todo el mundo. 🌍🎵 \n\n\n\n📅 No te pierdas su presentación el 3 de octubre a las 19:00 h en la Manzana de la Rivera\, durante la tercera jornada del festival.
URL:https://www.centroturisticovirtual.com/calendario/event/17-edicion-del-festival-mundial-del-arpa-concierto-de-nicolas-caballero-y-amane-yamada-japon/
LOCATION:Manzana de la Rivera\, El Paraguayo Independiente\, Asunción 001012\, Asunción\, Paraguay
ATTACH;FMTTYPE=image/jpeg:https://www.centroturisticovirtual.com/calendario/wp-content/uploads/2024/09/Concierto-de-Nicolas-Caballero-y-Amane-Yamada-Japon.jpg
GEO:-25.277737447125;-57.637463843131
X-APPLE-STRUCTURED-LOCATION;VALUE=URI;X-ADDRESS=Manzana de la Rivera El Paraguayo Independiente Asunción 001012 Asunción Paraguay;X-APPLE-RADIUS=500;X-TITLE=El Paraguayo Independiente\, Asunción 001012:geo:-57.637463843131,-25.277737447125
END:VEVENT
BEGIN:VEVENT
DTSTART;TZID=UTC:20241003T200000
DTEND;TZID=UTC:20241003T200000
DTSTAMP:20260423T210910
CREATED:20240926T174301Z
LAST-MODIFIED:20240926T174408Z
UID:10000148-1727985600-1727985600@www.centroturisticovirtual.com
SUMMARY:Festival de Danza: Escuela de Danza Silvio Fleitas
DESCRIPTION:Teatro “Agustín Barrios”. Contacto: Silvio Fleitas\, 0986 565350
URL:https://www.centroturisticovirtual.com/calendario/event/festival-de-danza-escuela-de-danza-silvio-fleitas/
LOCATION:Centro Paraguayo Japonés\, Domingo Portillo\, Asunción 001526\, Asunción\, Paraguay
ATTACH;FMTTYPE=image/jpeg:https://www.centroturisticovirtual.com/calendario/wp-content/uploads/2024/08/paraguayojapones.jpg
GEO:-25.272671425582;-57.563962164014
X-APPLE-STRUCTURED-LOCATION;VALUE=URI;X-ADDRESS=Centro Paraguayo Japonés Domingo Portillo Asunción 001526 Asunción Paraguay;X-APPLE-RADIUS=500;X-TITLE=Domingo Portillo\, Asunción 001526:geo:-57.563962164014,-25.272671425582
END:VEVENT
BEGIN:VEVENT
DTSTART;TZID=UTC:20241003T200000
DTEND;TZID=UTC:20241003T200000
DTSTAMP:20260423T210910
CREATED:20241002T182035Z
LAST-MODIFIED:20241002T182037Z
UID:10000158-1727985600-1727985600@www.centroturisticovirtual.com
SUMMARY: Concierto de Temporada de la OSCA
DESCRIPTION:Bajo la dirección del maestro Luis Szaran se presentará la concertista paraguaya\, radicada en Buenos Aires\, Chiara D´Odorico con el “Concierto para piano” de Eduard Grieg\, obra con la que debutara con la OSCA hace 10 años para luego embarcarse en una carrera internacional
URL:https://www.centroturisticovirtual.com/calendario/event/concierto-de-temporada-de-la-osca/
LOCATION:Teatro Municipal\, Pdte. Franco entre\, Chile y\, Asunción\, Asunción\, Paraguay
ATTACH;FMTTYPE=image/jpeg:https://www.centroturisticovirtual.com/calendario/wp-content/uploads/2024/10/chiara_osca-scaled.jpg
GEO:-25.280987448548;-57.634167727789
X-APPLE-STRUCTURED-LOCATION;VALUE=URI;X-ADDRESS=Teatro Municipal Pdte. Franco entre Chile y Asunción Asunción Paraguay;X-APPLE-RADIUS=500;X-TITLE=Pdte. Franco entre\, Chile y\, Asunción:geo:-57.634167727789,-25.280987448548
END:VEVENT
END:VCALENDAR