BEGIN:VCALENDAR
VERSION:2.0
PRODID:-//Centro Turístico Virtual - ECPv6.6.1//NONSGML v1.0//EN
CALSCALE:GREGORIAN
METHOD:PUBLISH
X-ORIGINAL-URL:https://www.centroturisticovirtual.com/calendario
X-WR-CALDESC:Eventos para Centro Turístico Virtual
REFRESH-INTERVAL;VALUE=DURATION:PT1H
X-Robots-Tag:noindex
X-PUBLISHED-TTL:PT1H
BEGIN:VTIMEZONE
TZID:UTC
BEGIN:STANDARD
TZOFFSETFROM:+0000
TZOFFSETTO:+0000
TZNAME:UTC
DTSTART:20240101T000000
END:STANDARD
END:VTIMEZONE
BEGIN:VEVENT
DTSTART;TZID=UTC:20240926T080000
DTEND;TZID=UTC:20241002T170000
DTSTAMP:20260423T211019
CREATED:20240926T180213Z
LAST-MODIFIED:20240926T180214Z
UID:10000152-1727337600-1727888400@www.centroturisticovirtual.com
SUMMARY:Exposición gratuita de Tiras Cómicas de "Trino"
DESCRIPTION:Casa Castelví – Manzana de la Rivera \n\n\n\nComo parte de las actividades para celebrar el 214 aniversario de la Independencia de México\, la Embajada de México en Paraguay invita a la exposición de tiras cómicas del famoso monero mexicano José Trinidad Camacho\, conocido como 𝑇𝑟𝑖𝑛𝑜\, el más innovador y provocador caricaturista de México. \n\n\n\nCon acceso libre y gratuito\, la muestra Trino. El arte de reírnos de nosotros mismos tendrá lugar en la Casa Castelví de la Manzana de la Rivera hasta el 2 de octubre. \n\n\n\nEn el México contemporáneo\, el caricaturista que dibuja y/o escribe las tiras cómicas de los periódicos o revistas del país se le conoce como «monero» y Trino siempre destaca con su humor que retrata las situaciones cotidianas con desenfado y muchas veces absurdo. \n\n\n\nSus «monitos»\, que pueden ser de tinte politico o de cualquier otra clase de humor\, contribuyen a entender y generar conciencia sobre la realidad política\, económica y social del país. \n\n\n\nTrino\, nacido en Guadalajara\, Jalisco\, en 1961 y es dueño de un humor ácido y directo. Sus caricaturas abarcan muy distintas temáticas\, desde el chiste infantil hasta la crítica política más cruda. \n\n\n\nGanó el Premio Nacional de Periodismo de México en el año 2000\, el Premio de Periodismo José Pagés Llergo al mejor caricaturista en el año 2006 y el premio Inkpad de la Comic-Con 2022 en San Diego\, California\, por sus contribuciones al mundo de los cómics. \n\n\n\nEs autor posee una vasta obra en la que conviven historietas\, ilustraciones de textos infantiles\, animaciones y doblajes de series de televisión.
URL:https://www.centroturisticovirtual.com/calendario/event/exposicion-gratuita-de-tiras-comicas-de-trino/
LOCATION:Manzana de la Rivera\, El Paraguayo Independiente\, Asunción 001012\, Asunción\, Paraguay
ATTACH;FMTTYPE=image/jpeg:https://www.centroturisticovirtual.com/calendario/wp-content/uploads/2024/09/Trino-1-1-scaled.jpg
GEO:-25.277737447125;-57.637463843131
X-APPLE-STRUCTURED-LOCATION;VALUE=URI;X-ADDRESS=Manzana de la Rivera El Paraguayo Independiente Asunción 001012 Asunción Paraguay;X-APPLE-RADIUS=500;X-TITLE=El Paraguayo Independiente\, Asunción 001012:geo:-57.637463843131,-25.277737447125
END:VEVENT
BEGIN:VEVENT
DTSTART;TZID=UTC:20240929T200000
DTEND;TZID=UTC:20240930T200000
DTSTAMP:20260423T211019
CREATED:20240925T183407Z
LAST-MODIFIED:20240925T183409Z
UID:10000113-1727640000-1727726400@www.centroturisticovirtual.com
SUMMARY:Obra Teatral La habitación blanca de José María Miró en el Ciclo Cultural Primavera Teatral. Teatro Municipal Ignacio A. Pane
DESCRIPTION:La obra del prestigioso dramaturgo español Josep Maria Miró se presenta en la Sala Ignacio A. Pane del Teatro Municipal de Asunción\, en dos únicas funciones\, los días domingo 29 y lunes 30 de septiembre a las 19:00 horas. Entradas generales: Gs. 40.000. Disponibles para su compra anticipada a través de la red TUTI. También se podrán adquirir en la boletería del teatro. Más información 0992 410 426.  \n\n\n\nLa dirección y puesta en escena se encuentran a cargo del Maestro Agustín Núñez\, con un elenco conformado por reconocidas actrices y actores como Techi Pereira\, Natalia Cálcena\, Diego Mongelós y Diro Romero\, «La Habitación Blanca» promete una experiencia teatral emocionante.  \n\n\n\nLa trama sigue el reencuentro de Carlos\, Lía y Manuel con la señorita Meche\, su maestra de la infancia. A medida que los recuerdos afloran\, se enfrentan a las complejidades de sus vidas adultas\, abriendo interrogantes y reviviendo antiguas heridas. Nadie\, ni siquiera la querida maestra\, puede escapar al impacto de este encuentro con el pasado. \n\n\n\n«La Habitación Blanca» invita al espectador a un viaje emocional hacia los paisajes íntimos de la niñez\, explorando los sueños y aspiraciones de la infancia contrastados con la realidad de la vida adulta. Es un relato que habla de la inevitabilidad del crecimiento\, los sacrificios realizados y los recuerdos que se entierran en el camino. \n\n\n\nMás Información:📲 \n\n\n\n0992 888 826
URL:https://www.centroturisticovirtual.com/calendario/event/obra-teatral-la-habitacion-blanca-de-jose-maria-miro-en-el-ciclo-cultural-primavera-teatral-teatro-municipal-ignacio-a-pane/
LOCATION:Teatro Municipal\, Pdte. Franco entre\, Chile y\, Asunción\, Asunción\, Paraguay
ATTACH;FMTTYPE=image/jpeg:https://www.centroturisticovirtual.com/calendario/wp-content/uploads/2024/09/WhatsApp-Image-2024-09-25-at-14.33.02.jpeg
GEO:-25.280987448548;-57.634167727789
X-APPLE-STRUCTURED-LOCATION;VALUE=URI;X-ADDRESS=Teatro Municipal Pdte. Franco entre Chile y Asunción Asunción Paraguay;X-APPLE-RADIUS=500;X-TITLE=Pdte. Franco entre\, Chile y\, Asunción:geo:-57.634167727789,-25.280987448548
END:VEVENT
BEGIN:VEVENT
DTSTART;TZID=UTC:20240930T193000
DTEND;TZID=UTC:20240930T210000
DTSTAMP:20260423T211019
CREATED:20240925T122350Z
LAST-MODIFIED:20240925T122351Z
UID:10000112-1727724600-1727730000@www.centroturisticovirtual.com
SUMMARY:Clausura de Actividades - Kindergarten Spiele und Co. Teatro “Agustín Barrios”.
DESCRIPTION:
URL:https://www.centroturisticovirtual.com/calendario/event/clausura-de-actividades-kindergarten-spiele-und-co-teatro-agustin-barrios/
LOCATION:Centro Paraguayo Japonés\, Domingo Portillo\, Asunción 001526\, Asunción\, Paraguay
ATTACH;FMTTYPE=image/jpeg:https://www.centroturisticovirtual.com/calendario/wp-content/uploads/2024/08/paraguayojapones.jpg
GEO:-25.272671425582;-57.563962164014
X-APPLE-STRUCTURED-LOCATION;VALUE=URI;X-ADDRESS=Centro Paraguayo Japonés Domingo Portillo Asunción 001526 Asunción Paraguay;X-APPLE-RADIUS=500;X-TITLE=Domingo Portillo\, Asunción 001526:geo:-57.563962164014,-25.272671425582
END:VEVENT
END:VCALENDAR