BEGIN:VCALENDAR
VERSION:2.0
PRODID:-//Centro Turístico Virtual - ECPv6.6.1//NONSGML v1.0//EN
CALSCALE:GREGORIAN
METHOD:PUBLISH
X-WR-CALNAME:Centro Turístico Virtual
X-ORIGINAL-URL:https://www.centroturisticovirtual.com/calendario
X-WR-CALDESC:Eventos para Centro Turístico Virtual
REFRESH-INTERVAL;VALUE=DURATION:PT1H
X-Robots-Tag:noindex
X-PUBLISHED-TTL:PT1H
BEGIN:VTIMEZONE
TZID:UTC
BEGIN:STANDARD
TZOFFSETFROM:+0000
TZOFFSETTO:+0000
TZNAME:UTC
DTSTART:20240101T000000
END:STANDARD
END:VTIMEZONE
BEGIN:VEVENT
DTSTART;TZID=UTC:20240829T090000
DTEND;TZID=UTC:20240829T110000
DTSTAMP:20260423T224819
CREATED:20240812T191915Z
LAST-MODIFIED:20240812T191916Z
UID:10000050-1724922000-1724929200@www.centroturisticovirtual.com
SUMMARY:Conociendo Asunción. Visita guiada.
DESCRIPTION:Conociendo Asunción. Visita guiada.  \n\n\n\nSede y Organiza: Departamento de Audiovisual – Manzana de la Rivera.
URL:https://www.centroturisticovirtual.com/calendario/event/conociendo-asuncion-visita-guiada-2/
LOCATION:Manzana de la Rivera\, El Paraguayo Independiente\, Asunción 001012\, Asunción\, Paraguay
GEO:-25.277737447125;-57.637463843131
X-APPLE-STRUCTURED-LOCATION;VALUE=URI;X-ADDRESS=Manzana de la Rivera El Paraguayo Independiente Asunción 001012 Asunción Paraguay;X-APPLE-RADIUS=500;X-TITLE=El Paraguayo Independiente\, Asunción 001012:geo:-57.637463843131,-25.277737447125
END:VEVENT
BEGIN:VEVENT
DTSTART;TZID=UTC:20240829T150000
DTEND;TZID=UTC:20240829T170000
DTSTAMP:20260423T224819
CREATED:20240812T191954Z
LAST-MODIFIED:20240812T191955Z
UID:10000051-1724943600-1724950800@www.centroturisticovirtual.com
SUMMARY:Visita guiada por la muestra fotográfica "José Asunción Flores\, creador de la Guarania".
DESCRIPTION:Visita guiada por la muestra fotográfica «José Asunción Flores\, creador de la Guarania».
URL:https://www.centroturisticovirtual.com/calendario/event/visita-guiada-por-la-muestra-fotografica-jose-asuncion-flores-creador-de-la-guarania-2/
LOCATION:Manzana de la Rivera\, El Paraguayo Independiente\, Asunción 001012\, Asunción\, Paraguay
GEO:-25.277737447125;-57.637463843131
X-APPLE-STRUCTURED-LOCATION;VALUE=URI;X-ADDRESS=Manzana de la Rivera El Paraguayo Independiente Asunción 001012 Asunción Paraguay;X-APPLE-RADIUS=500;X-TITLE=El Paraguayo Independiente\, Asunción 001012:geo:-57.637463843131,-25.277737447125
END:VEVENT
END:VCALENDAR