BEGIN:VCALENDAR
VERSION:2.0
PRODID:-//Centro Turístico Virtual - ECPv6.6.1//NONSGML v1.0//EN
CALSCALE:GREGORIAN
METHOD:PUBLISH
X-WR-CALNAME:Centro Turístico Virtual
X-ORIGINAL-URL:https://www.centroturisticovirtual.com/calendario
X-WR-CALDESC:Eventos para Centro Turístico Virtual
REFRESH-INTERVAL;VALUE=DURATION:PT1H
X-Robots-Tag:noindex
X-PUBLISHED-TTL:PT1H
BEGIN:VTIMEZONE
TZID:UTC
BEGIN:STANDARD
TZOFFSETFROM:+0000
TZOFFSETTO:+0000
TZNAME:UTC
DTSTART:20240101T000000
END:STANDARD
END:VTIMEZONE
BEGIN:VEVENT
DTSTART;TZID=UTC:20240827T090000
DTEND;TZID=UTC:20240827T110000
DTSTAMP:20260423T224836
CREATED:20240812T191756Z
LAST-MODIFIED:20240812T191757Z
UID:10000048-1724749200-1724756400@www.centroturisticovirtual.com
SUMMARY:Ciclo de Cine para estudiantes de las escuelas de la ciudad.
DESCRIPTION:Ciclo de Cine para estudiantes de las escuelas de la ciudad.  \n\n\n\nSede: Salón García Lorca – Manzana de la Rivera.  \n\n\n\nOrganiza: Departamento de Audiovisual.  \n\n\n\nContacto: María Teresa Recalde (0982 883 050).
URL:https://www.centroturisticovirtual.com/calendario/event/ciclo-de-cine-para-estudiantes-de-las-escuelas-de-la-ciudad/
LOCATION:Manzana de la Rivera\, El Paraguayo Independiente\, Asunción 001012\, Asunción\, Paraguay
GEO:-25.277737447125;-57.637463843131
X-APPLE-STRUCTURED-LOCATION;VALUE=URI;X-ADDRESS=Manzana de la Rivera El Paraguayo Independiente Asunción 001012 Asunción Paraguay;X-APPLE-RADIUS=500;X-TITLE=El Paraguayo Independiente\, Asunción 001012:geo:-57.637463843131,-25.277737447125
END:VEVENT
BEGIN:VEVENT
DTSTART;TZID=UTC:20240827T100000
DTEND;TZID=UTC:20240827T170000
DTSTAMP:20260423T224836
CREATED:20240812T195915Z
LAST-MODIFIED:20240812T195916Z
UID:10000093-1724752800-1724778000@www.centroturisticovirtual.com
SUMMARY:Acto por el Día de la Guarania
DESCRIPTION:Dirección: Miguel Ángel Echeverría con la presentación artística de la OCMA.  \n\n\n\nLugar: Plaza temática José Asunción Flores / Manuel Ortiz Guerrero
URL:https://www.centroturisticovirtual.com/calendario/event/acto-por-el-dia-de-la-guarania/
LOCATION:Otras Actividades\, Asunción\, Paraguay
END:VEVENT
BEGIN:VEVENT
DTSTART;TZID=UTC:20240827T193000
DTEND;TZID=UTC:20240827T210000
DTSTAMP:20260423T224836
CREATED:20240812T200312Z
LAST-MODIFIED:20240812T200313Z
UID:10000097-1724787000-1724792400@www.centroturisticovirtual.com
SUMMARY:Concierto "Romance de Elisa Lynch"\, de la Escuela Municipal de Canto del IMA
DESCRIPTION:Concierto «Romance de Elisa Lynch»\, de la Escuela Municipal de Canto del IMA.  \n\n\n\nAuditorio Ruy Díaz de Guzmán.
URL:https://www.centroturisticovirtual.com/calendario/event/concierto-romance-de-elisa-lynch-de-la-escuela-municipal-de-canto-del-ima/
LOCATION:Manzana de la Rivera\, El Paraguayo Independiente\, Asunción 001012\, Asunción\, Paraguay
GEO:-25.277737447125;-57.637463843131
X-APPLE-STRUCTURED-LOCATION;VALUE=URI;X-ADDRESS=Manzana de la Rivera El Paraguayo Independiente Asunción 001012 Asunción Paraguay;X-APPLE-RADIUS=500;X-TITLE=El Paraguayo Independiente\, Asunción 001012:geo:-57.637463843131,-25.277737447125
END:VEVENT
END:VCALENDAR