BEGIN:VCALENDAR
VERSION:2.0
PRODID:-//Centro Turístico Virtual - ECPv6.6.1//NONSGML v1.0//EN
CALSCALE:GREGORIAN
METHOD:PUBLISH
X-WR-CALNAME:Centro Turístico Virtual
X-ORIGINAL-URL:https://www.centroturisticovirtual.com/calendario
X-WR-CALDESC:Eventos para Centro Turístico Virtual
REFRESH-INTERVAL;VALUE=DURATION:PT1H
X-Robots-Tag:noindex
X-PUBLISHED-TTL:PT1H
BEGIN:VTIMEZONE
TZID:UTC
BEGIN:STANDARD
TZOFFSETFROM:+0000
TZOFFSETTO:+0000
TZNAME:UTC
DTSTART:20240101T000000
END:STANDARD
END:VTIMEZONE
BEGIN:VEVENT
DTSTART;TZID=UTC:20240824T110000
DTEND;TZID=UTC:20240824T230000
DTSTAMP:20260424T003257
CREATED:20240812T195728Z
LAST-MODIFIED:20240812T195729Z
UID:10000092-1724497200-1724540400@www.centroturisticovirtual.com
SUMMARY:Feria Palmear. Casco Histórico de Asunción\, feria gastronómica y de Artesanía y presentaciones artísticas.
DESCRIPTION:
URL:https://www.centroturisticovirtual.com/calendario/event/feria-palmear-casco-historico-de-asuncion-feria-gastronomica-y-de-artesania-y-presentaciones-artisticas-4/
LOCATION:Otras Actividades\, Asunción\, Paraguay
END:VEVENT
BEGIN:VEVENT
DTSTART;TZID=UTC:20240824T160000
DTEND;TZID=UTC:20240824T170000
DTSTAMP:20260424T003257
CREATED:20240812T191632Z
LAST-MODIFIED:20240812T191633Z
UID:10000046-1724515200-1724518800@www.centroturisticovirtual.com
SUMMARY:Visita guiada por la muestra fotográfica "José Asunción Flores\, creador de la Guarania".
DESCRIPTION:Visita guiada por la muestra fotográfica «José Asunción Flores\, creador de la Guarania».  \n\n\n\nEspacio La Galería de la Manzana de la Rivera.
URL:https://www.centroturisticovirtual.com/calendario/event/visita-guiada-por-la-muestra-fotografica-jose-asuncion-flores-creador-de-la-guarania/
LOCATION:Manzana de la Rivera\, El Paraguayo Independiente\, Asunción 001012\, Asunción\, Paraguay
GEO:-25.277737447125;-57.637463843131
X-APPLE-STRUCTURED-LOCATION;VALUE=URI;X-ADDRESS=Manzana de la Rivera El Paraguayo Independiente Asunción 001012 Asunción Paraguay;X-APPLE-RADIUS=500;X-TITLE=El Paraguayo Independiente\, Asunción 001012:geo:-57.637463843131,-25.277737447125
END:VEVENT
BEGIN:VEVENT
DTSTART;TZID=UTC:20240824T183000
DTEND;TZID=UTC:20240824T200000
DTSTAMP:20260424T003257
CREATED:20240812T193131Z
LAST-MODIFIED:20240812T193133Z
UID:10000062-1724524200-1724529600@www.centroturisticovirtual.com
SUMMARY:Festival de Danza Romar - Academia de Danza.
DESCRIPTION:Festival de Danza. Romar – Academia de Danza.  \n\n\n\nTeatro “Agustín Barrios”.  \n\n\n\nContacto: Rocío López\, 0981 256204.
URL:https://www.centroturisticovirtual.com/calendario/event/festival-de-danza-romar-academia-de-danza/
LOCATION:Centro Paraguayo Japonés\, Domingo Portillo\, Asunción 001526\, Asunción\, Paraguay
GEO:-25.272671425582;-57.563962164014
X-APPLE-STRUCTURED-LOCATION;VALUE=URI;X-ADDRESS=Centro Paraguayo Japonés Domingo Portillo Asunción 001526 Asunción Paraguay;X-APPLE-RADIUS=500;X-TITLE=Domingo Portillo\, Asunción 001526:geo:-57.563962164014,-25.272671425582
END:VEVENT
BEGIN:VEVENT
DTSTART;TZID=UTC:20240824T200000
DTEND;TZID=UTC:20240824T220000
DTSTAMP:20260424T003257
CREATED:20240812T185336Z
LAST-MODIFIED:20240812T185337Z
UID:10000019-1724529600-1724536800@www.centroturisticovirtual.com
SUMMARY:2da. Temporada del Ballet Clásico y Moderno Municipal obra – Romeo y Julieta
DESCRIPTION:2da. Temporada del Ballet Clásico y Moderno Municipal obra – Romeo y Julieta en el Teatro Municipal Ignacio A. Pane.  \n\n\n\nFechas: Viernes 23\, sábado 24\, domingo 25\, viernes 30\, sábado 31 de agosto y domingo 01 de Setiembre. \n\n\n\nInformes y ventas. Tel 0975 555 209.
URL:https://www.centroturisticovirtual.com/calendario/event/2da-temporada-del-ballet-clasico-y-moderno-municipal-obra-romeo-y-julieta/2024-08-24/
LOCATION:Teatro Municipal\, Pdte. Franco entre\, Chile y\, Asunción\, Asunción\, Paraguay
GEO:-25.280987448548;-57.634167727789
X-APPLE-STRUCTURED-LOCATION;VALUE=URI;X-ADDRESS=Teatro Municipal Pdte. Franco entre Chile y Asunción Asunción Paraguay;X-APPLE-RADIUS=500;X-TITLE=Pdte. Franco entre\, Chile y\, Asunción:geo:-57.634167727789,-25.280987448548
END:VEVENT
BEGIN:VEVENT
DTSTART;TZID=UTC:20240824T210000
DTEND;TZID=UTC:20240824T213000
DTSTAMP:20260424T003257
CREATED:20240812T191704Z
LAST-MODIFIED:20240812T191706Z
UID:10000047-1724533200-1724535000@www.centroturisticovirtual.com
SUMMARY:"Somos instantes"\, homenaje a Alcibíades González Delvalle.
DESCRIPTION:«Somos instantes»\, homenaje a Alcibíades González Delvalle. Tres obras cortas a cargo de alumnos de Abra Estudio. Auditorio Ruy Díaz de Guzmán
URL:https://www.centroturisticovirtual.com/calendario/event/somos-instantes-homenaje-a-alcibiades-gonzalez-delvalle-2/
LOCATION:Manzana de la Rivera\, El Paraguayo Independiente\, Asunción 001012\, Asunción\, Paraguay
GEO:-25.277737447125;-57.637463843131
X-APPLE-STRUCTURED-LOCATION;VALUE=URI;X-ADDRESS=Manzana de la Rivera El Paraguayo Independiente Asunción 001012 Asunción Paraguay;X-APPLE-RADIUS=500;X-TITLE=El Paraguayo Independiente\, Asunción 001012:geo:-57.637463843131,-25.277737447125
END:VEVENT
END:VCALENDAR