BEGIN:VCALENDAR
VERSION:2.0
PRODID:-//Centro Turístico Virtual - ECPv6.6.1//NONSGML v1.0//EN
CALSCALE:GREGORIAN
METHOD:PUBLISH
X-ORIGINAL-URL:https://www.centroturisticovirtual.com/calendario
X-WR-CALDESC:Eventos para Centro Turístico Virtual
REFRESH-INTERVAL;VALUE=DURATION:PT1H
X-Robots-Tag:noindex
X-PUBLISHED-TTL:PT1H
BEGIN:VTIMEZONE
TZID:UTC
BEGIN:STANDARD
TZOFFSETFROM:+0000
TZOFFSETTO:+0000
TZNAME:UTC
DTSTART:20240101T000000
END:STANDARD
END:VTIMEZONE
BEGIN:VEVENT
DTSTART;TZID=UTC:20240821T090000
DTEND;TZID=UTC:20240821T110000
DTSTAMP:20260424T003512
CREATED:20240812T191130Z
LAST-MODIFIED:20240812T191131Z
UID:10000039-1724230800-1724238000@www.centroturisticovirtual.com
SUMMARY:Conociendo Asunción\, visita guiada por el Centro Cultural de la Ciudad Carlos Colombino.
DESCRIPTION:Conociendo Asunción\, visita guiada por el Centro Cultural de la Ciudad Carlos Colombino/Manzana de la Rivera.  \n\n\n\nOrganiza: Departamento de Audiovisual.  \n\n\n\nEspacios de la Manzana.
URL:https://www.centroturisticovirtual.com/calendario/event/conociendo-asuncion-visita-guiada-por-el-centro-cultural-de-la-ciudad-carlos-colombino-4/
LOCATION:Manzana de la Rivera\, El Paraguayo Independiente\, Asunción 001012\, Asunción\, Paraguay
GEO:-25.277737447125;-57.637463843131
X-APPLE-STRUCTURED-LOCATION;VALUE=URI;X-ADDRESS=Manzana de la Rivera El Paraguayo Independiente Asunción 001012 Asunción Paraguay;X-APPLE-RADIUS=500;X-TITLE=El Paraguayo Independiente\, Asunción 001012:geo:-57.637463843131,-25.277737447125
END:VEVENT
BEGIN:VEVENT
DTSTART;TZID=UTC:20240821T180000
DTEND;TZID=UTC:20240821T193000
DTSTAMP:20260424T003512
CREATED:20240812T200156Z
LAST-MODIFIED:20240812T200202Z
UID:10000096-1724263200-1724268600@www.centroturisticovirtual.com
SUMMARY:Presentación de la OJA.
DESCRIPTION:Presentación de la OJA.  \n\n\n\nAuditorio Mercedes Jané IMA
URL:https://www.centroturisticovirtual.com/calendario/event/presentacion-de-la-oja/
LOCATION:Otras Actividades\, Asunción\, Paraguay
END:VEVENT
BEGIN:VEVENT
DTSTART;TZID=UTC:20240821T190000
DTEND;TZID=UTC:20240821T193000
DTSTAMP:20260424T003512
CREATED:20240812T192657Z
LAST-MODIFIED:20240812T192658Z
UID:10000058-1724266800-1724268600@www.centroturisticovirtual.com
SUMMARY:Play Back Colegio Las Almenas.
DESCRIPTION:Play Back Colegio Las Almenas.  \n\n\n\nTeatro “Agustín Barrios” (CPJ).  \n\n\n\nContacto: Rosalin Chamorro (0971) 808 547
URL:https://www.centroturisticovirtual.com/calendario/event/play-back-colegio-las-almenas/
LOCATION:Centro Paraguayo Japonés\, Domingo Portillo\, Asunción 001526\, Asunción\, Paraguay
GEO:-25.272671425582;-57.563962164014
X-APPLE-STRUCTURED-LOCATION;VALUE=URI;X-ADDRESS=Centro Paraguayo Japonés Domingo Portillo Asunción 001526 Asunción Paraguay;X-APPLE-RADIUS=500;X-TITLE=Domingo Portillo\, Asunción 001526:geo:-57.563962164014,-25.272671425582
END:VEVENT
BEGIN:VEVENT
DTSTART;TZID=UTC:20240821T210000
DTEND;TZID=UTC:20240821T213000
DTSTAMP:20260424T003512
CREATED:20240812T195656Z
LAST-MODIFIED:20240812T195658Z
UID:10000091-1724274000-1724275800@www.centroturisticovirtual.com
SUMMARY:Melodías y Sabores de Asunción
DESCRIPTION:Melodías y Sabores de Asunción»\, diferentes restaurantes de Asunción. 
URL:https://www.centroturisticovirtual.com/calendario/event/melodias-y-sabores-de-asuncion-3/
LOCATION:Otras Actividades\, Asunción\, Paraguay
END:VEVENT
END:VCALENDAR