BEGIN:VCALENDAR
VERSION:2.0
PRODID:-//Centro Turístico Virtual - ECPv6.6.1//NONSGML v1.0//EN
CALSCALE:GREGORIAN
METHOD:PUBLISH
X-WR-CALNAME:Centro Turístico Virtual
X-ORIGINAL-URL:https://www.centroturisticovirtual.com/calendario
X-WR-CALDESC:Eventos para Centro Turístico Virtual
REFRESH-INTERVAL;VALUE=DURATION:PT1H
X-Robots-Tag:noindex
X-PUBLISHED-TTL:PT1H
BEGIN:VTIMEZONE
TZID:UTC
BEGIN:STANDARD
TZOFFSETFROM:+0000
TZOFFSETTO:+0000
TZNAME:UTC
DTSTART:20240101T000000
END:STANDARD
END:VTIMEZONE
BEGIN:VEVENT
DTSTART;TZID=UTC:20240812T080000
DTEND;TZID=UTC:20240817T170000
DTSTAMP:20260424T003204
CREATED:20240812T191043Z
LAST-MODIFIED:20240812T191044Z
UID:10000038-1723449600-1723914000@www.centroturisticovirtual.com
SUMMARY:Museólogos por un día.
DESCRIPTION:Se realiza en la Manzana en el Museo Memoria de la Ciudad.  \n\n\n\nConsiste en un recorrido por el museo explicando a los niños en forma didáctica sobre las piezas\, historia\, etc\, continúa con una actividad que consiste en pinturas realizadas por los niños asistentes.  \n\n\n\nDibujando con el Director «Félix Toranzos».
URL:https://www.centroturisticovirtual.com/calendario/event/museologos-por-un-dia/
LOCATION:Manzana de la Rivera\, El Paraguayo Independiente\, Asunción 001012\, Asunción\, Paraguay
GEO:-25.277737447125;-57.637463843131
X-APPLE-STRUCTURED-LOCATION;VALUE=URI;X-ADDRESS=Manzana de la Rivera El Paraguayo Independiente Asunción 001012 Asunción Paraguay;X-APPLE-RADIUS=500;X-TITLE=El Paraguayo Independiente\, Asunción 001012:geo:-57.637463843131,-25.277737447125
END:VEVENT
BEGIN:VEVENT
DTSTART;TZID=UTC:20240812T080000
DTEND;TZID=UTC:20240818T170000
DTSTAMP:20260424T003204
CREATED:20240812T192611Z
LAST-MODIFIED:20240812T192612Z
UID:10000057-1723449600-1724000400@www.centroturisticovirtual.com
SUMMARY:Concurso ADC. “Asunción Dance Competition”
DESCRIPTION:Concurso ADC. “Asunción Dance Competition”  \n\n\n\nTeatro. – Centro Paraguayo Japonés
URL:https://www.centroturisticovirtual.com/calendario/event/concurso-adc-asuncion-dance-competition/
LOCATION:Centro Paraguayo Japonés\, Domingo Portillo\, Asunción 001526\, Asunción\, Paraguay
GEO:-25.272671425582;-57.563962164014
X-APPLE-STRUCTURED-LOCATION;VALUE=URI;X-ADDRESS=Centro Paraguayo Japonés Domingo Portillo Asunción 001526 Asunción Paraguay;X-APPLE-RADIUS=500;X-TITLE=Domingo Portillo\, Asunción 001526:geo:-57.563962164014,-25.272671425582
END:VEVENT
BEGIN:VEVENT
DTSTART;TZID=UTC:20240817T110000
DTEND;TZID=UTC:20240817T120000
DTSTAMP:20260424T003204
CREATED:20240812T195510Z
LAST-MODIFIED:20240812T195511Z
UID:10000088-1723892400-1723896000@www.centroturisticovirtual.com
SUMMARY:Presentaciones del Coro de niños\, ensamble de música popular\, además de alumnos del taller de teatro infanto juvenil y de la escuela de Danza del IMA.
DESCRIPTION:Feria Palmear.
URL:https://www.centroturisticovirtual.com/calendario/event/presentaciones-del-coro-de-ninos-ensamble-de-musica-popular-ademas-de-alumnos-del-taller-de-teatro-infanto-juvenil-y-de-la-escuela-de-danza-del-ima/
LOCATION:Otras Actividades\, Asunción\, Paraguay
END:VEVENT
BEGIN:VEVENT
DTSTART;TZID=UTC:20240817T110000
DTEND;TZID=UTC:20240817T190000
DTSTAMP:20260424T003204
CREATED:20240812T195430Z
LAST-MODIFIED:20240812T195431Z
UID:10000087-1723892400-1723921200@www.centroturisticovirtual.com
SUMMARY:Fiesta de los Niños. Mapa abriendo Caminos. #FeriaPalmear.
DESCRIPTION:Fiesta de los Niños. Mapa abriendo Caminos.  \n\n\n\nCalle Palma con más de 25 actividades que buscan estimular la creatividad de los Niños en la #FeriaPalmear.
URL:https://www.centroturisticovirtual.com/calendario/event/fiesta-de-los-ninos-mapa-abriendo-caminos-feriapalmear/
LOCATION:Otras Actividades\, Asunción\, Paraguay
END:VEVENT
BEGIN:VEVENT
DTSTART;TZID=UTC:20240817T110000
DTEND;TZID=UTC:20240817T220000
DTSTAMP:20260424T003204
CREATED:20240812T194535Z
LAST-MODIFIED:20240812T194536Z
UID:10000077-1723892400-1723932000@www.centroturisticovirtual.com
SUMMARY:Palma Vy´a – Especial Día del Niño.
DESCRIPTION:Lugar: Calle Palma e/ 15 de agosto y Ayolas. Organiza: Asu Mega Fest en conjunto con DACC
URL:https://www.centroturisticovirtual.com/calendario/event/palma-vya-especial-dia-del-nino/
LOCATION:Dirección de Acción Cultural\, Ayolas entre Jejui e Ygatimi\, Asunción\, Paraguay
GEO:-25.286723659894;-57.64371548546
X-APPLE-STRUCTURED-LOCATION;VALUE=URI;X-ADDRESS=Dirección de Acción Cultural Ayolas entre Jejui e Ygatimi Asunción Paraguay;X-APPLE-RADIUS=500;X-TITLE=Ayolas entre Jejui e Ygatimi:geo:-57.64371548546,-25.286723659894
END:VEVENT
BEGIN:VEVENT
DTSTART;TZID=UTC:20240817T110000
DTEND;TZID=UTC:20240817T230000
DTSTAMP:20260424T003204
CREATED:20240812T195541Z
LAST-MODIFIED:20240812T195542Z
UID:10000089-1723892400-1723935600@www.centroturisticovirtual.com
SUMMARY:Feria Palmear. Casco Histórico de Asunción\, feria gastronómica y de Artesanía y presentaciones artísticas.
DESCRIPTION:
URL:https://www.centroturisticovirtual.com/calendario/event/feria-palmear-casco-historico-de-asuncion-feria-gastronomica-y-de-artesania-y-presentaciones-artisticas-3/
LOCATION:Otras Actividades\, Asunción\, Paraguay
END:VEVENT
BEGIN:VEVENT
DTSTART;TZID=UTC:20240817T200000
DTEND;TZID=UTC:20240817T213000
DTSTAMP:20260424T003204
CREATED:20240812T184829Z
LAST-MODIFIED:20240812T184830Z
UID:10000016-1723924800-1723930200@www.centroturisticovirtual.com
SUMMARY:Una Noche de Fantasía Glenda Campos
DESCRIPTION:
URL:https://www.centroturisticovirtual.com/calendario/event/una-noche-de-fantasia-glenda-campos/
LOCATION:Teatro Municipal\, Pdte. Franco entre\, Chile y\, Asunción\, Asunción\, Paraguay
GEO:-25.280987448548;-57.634167727789
X-APPLE-STRUCTURED-LOCATION;VALUE=URI;X-ADDRESS=Teatro Municipal Pdte. Franco entre Chile y Asunción Asunción Paraguay;X-APPLE-RADIUS=500;X-TITLE=Pdte. Franco entre\, Chile y\, Asunción:geo:-57.634167727789,-25.280987448548
END:VEVENT
END:VCALENDAR