BEGIN:VCALENDAR
VERSION:2.0
PRODID:-//Centro Turístico Virtual - ECPv6.6.1//NONSGML v1.0//EN
CALSCALE:GREGORIAN
METHOD:PUBLISH
X-ORIGINAL-URL:https://www.centroturisticovirtual.com/calendario
X-WR-CALDESC:Eventos para Centro Turístico Virtual
REFRESH-INTERVAL;VALUE=DURATION:PT1H
X-Robots-Tag:noindex
X-PUBLISHED-TTL:PT1H
BEGIN:VTIMEZONE
TZID:UTC
BEGIN:STANDARD
TZOFFSETFROM:+0000
TZOFFSETTO:+0000
TZNAME:UTC
DTSTART:20240101T000000
END:STANDARD
END:VTIMEZONE
BEGIN:VEVENT
DTSTART;TZID=UTC:20240812T070000
DTEND;TZID=UTC:20240815T220000
DTSTAMP:20260424T003659
CREATED:20240812T194049Z
LAST-MODIFIED:20240812T194050Z
UID:10000071-1723446000-1723759200@www.centroturisticovirtual.com
SUMMARY:Feria de Artesanías de ASACIVAPA.
DESCRIPTION:Lugar: Plaza Juan E. O leary
URL:https://www.centroturisticovirtual.com/calendario/event/feria-de-artesanias-de-asacivapa/
LOCATION:Dirección de Acción Cultural\, Ayolas entre Jejui e Ygatimi\, Asunción\, Paraguay
GEO:-25.286723659894;-57.64371548546
X-APPLE-STRUCTURED-LOCATION;VALUE=URI;X-ADDRESS=Dirección de Acción Cultural Ayolas entre Jejui e Ygatimi Asunción Paraguay;X-APPLE-RADIUS=500;X-TITLE=Ayolas entre Jejui e Ygatimi:geo:-57.64371548546,-25.286723659894
END:VEVENT
BEGIN:VEVENT
DTSTART;TZID=UTC:20240812T080000
DTEND;TZID=UTC:20240817T170000
DTSTAMP:20260424T003659
CREATED:20240812T191043Z
LAST-MODIFIED:20240812T191044Z
UID:10000038-1723449600-1723914000@www.centroturisticovirtual.com
SUMMARY:Museólogos por un día.
DESCRIPTION:Se realiza en la Manzana en el Museo Memoria de la Ciudad.  \n\n\n\nConsiste en un recorrido por el museo explicando a los niños en forma didáctica sobre las piezas\, historia\, etc\, continúa con una actividad que consiste en pinturas realizadas por los niños asistentes.  \n\n\n\nDibujando con el Director «Félix Toranzos».
URL:https://www.centroturisticovirtual.com/calendario/event/museologos-por-un-dia/
LOCATION:Manzana de la Rivera\, El Paraguayo Independiente\, Asunción 001012\, Asunción\, Paraguay
GEO:-25.277737447125;-57.637463843131
X-APPLE-STRUCTURED-LOCATION;VALUE=URI;X-ADDRESS=Manzana de la Rivera El Paraguayo Independiente Asunción 001012 Asunción Paraguay;X-APPLE-RADIUS=500;X-TITLE=El Paraguayo Independiente\, Asunción 001012:geo:-57.637463843131,-25.277737447125
END:VEVENT
BEGIN:VEVENT
DTSTART;TZID=UTC:20240812T080000
DTEND;TZID=UTC:20240818T170000
DTSTAMP:20260424T003659
CREATED:20240812T192611Z
LAST-MODIFIED:20240812T192612Z
UID:10000057-1723449600-1724000400@www.centroturisticovirtual.com
SUMMARY:Concurso ADC. “Asunción Dance Competition”
DESCRIPTION:Concurso ADC. “Asunción Dance Competition”  \n\n\n\nTeatro. – Centro Paraguayo Japonés
URL:https://www.centroturisticovirtual.com/calendario/event/concurso-adc-asuncion-dance-competition/
LOCATION:Centro Paraguayo Japonés\, Domingo Portillo\, Asunción 001526\, Asunción\, Paraguay
GEO:-25.272671425582;-57.563962164014
X-APPLE-STRUCTURED-LOCATION;VALUE=URI;X-ADDRESS=Centro Paraguayo Japonés Domingo Portillo Asunción 001526 Asunción Paraguay;X-APPLE-RADIUS=500;X-TITLE=Domingo Portillo\, Asunción 001526:geo:-57.563962164014,-25.272671425582
END:VEVENT
BEGIN:VEVENT
DTSTART;TZID=UTC:20240814T070000
DTEND;TZID=UTC:20240815T220000
DTSTAMP:20260424T003659
CREATED:20240812T194141Z
LAST-MODIFIED:20240812T194142Z
UID:10000072-1723618800-1723759200@www.centroturisticovirtual.com
SUMMARY:Palma Vy´a - Fundación de Asunción
DESCRIPTION:Palma Vy´a – Fundación de Asunción \n\n\n\nLugar: Calle Palma desde 15 de agosto hasta Ayolas.  \n\n\n\nOrganiza: AsuMega Fest en conjunto con DACC.
URL:https://www.centroturisticovirtual.com/calendario/event/palma-vya-fundacion-de-asuncion/
LOCATION:Dirección de Acción Cultural\, Ayolas entre Jejui e Ygatimi\, Asunción\, Paraguay
GEO:-25.286723659894;-57.64371548546
X-APPLE-STRUCTURED-LOCATION;VALUE=URI;X-ADDRESS=Dirección de Acción Cultural Ayolas entre Jejui e Ygatimi Asunción Paraguay;X-APPLE-RADIUS=500;X-TITLE=Ayolas entre Jejui e Ygatimi:geo:-57.64371548546,-25.286723659894
END:VEVENT
BEGIN:VEVENT
DTSTART;TZID=UTC:20240815T070000
DTEND;TZID=UTC:20240815T220000
DTSTAMP:20260424T003659
CREATED:20240812T194228Z
LAST-MODIFIED:20240812T194230Z
UID:10000073-1723705200-1723759200@www.centroturisticovirtual.com
SUMMARY:ASUPalmearte y Vencer y Vivir Festival y Exposición de Artistas con demostraciones en vivo.
DESCRIPTION:Lugar: Plaza de los Héroes (Palma y Nuestra Sra. de la Asunción).  \n\n\n\nOrganiza: Vencer y vivir producciones de arte en conjunto con DACC.
URL:https://www.centroturisticovirtual.com/calendario/event/asupalmearte-y-vencer-y-vivir-festival-y-exposicion-de-artistas-con-demostraciones-en-vivo/
LOCATION:Dirección de Acción Cultural\, Ayolas entre Jejui e Ygatimi\, Asunción\, Paraguay
GEO:-25.286723659894;-57.64371548546
X-APPLE-STRUCTURED-LOCATION;VALUE=URI;X-ADDRESS=Dirección de Acción Cultural Ayolas entre Jejui e Ygatimi Asunción Paraguay;X-APPLE-RADIUS=500;X-TITLE=Ayolas entre Jejui e Ygatimi:geo:-57.64371548546,-25.286723659894
END:VEVENT
BEGIN:VEVENT
DTSTART;TZID=UTC:20240815T090000
DTEND;TZID=UTC:20240815T150000
DTSTAMP:20260424T003659
CREATED:20240812T194318Z
LAST-MODIFIED:20240812T194319Z
UID:10000074-1723712400-1723734000@www.centroturisticovirtual.com
SUMMARY:Desfile Asunción Madre de Ciudades.
DESCRIPTION:Desfile Asunción Madre de Ciudades.  \n\n\n\nLugar: Mcal. Estigarribia y México\, por toda Calle Palma hasta Colón.  \n\n\n\nOrganiza: Dirección de Acción Cultural y Comunitaria en conjunto con la Asociación de Exas de los Colegios de Asunción y Asociación de Autos antiguos del Paraguay.
URL:https://www.centroturisticovirtual.com/calendario/event/desfile-asuncion-madre-de-ciudades/
LOCATION:Dirección de Acción Cultural\, Ayolas entre Jejui e Ygatimi\, Asunción\, Paraguay
GEO:-25.286723659894;-57.64371548546
X-APPLE-STRUCTURED-LOCATION;VALUE=URI;X-ADDRESS=Dirección de Acción Cultural Ayolas entre Jejui e Ygatimi Asunción Paraguay;X-APPLE-RADIUS=500;X-TITLE=Ayolas entre Jejui e Ygatimi:geo:-57.64371548546,-25.286723659894
END:VEVENT
BEGIN:VEVENT
DTSTART;TZID=UTC:20240815T110000
DTEND;TZID=UTC:20240815T170000
DTSTAMP:20260424T003659
CREATED:20240812T194358Z
LAST-MODIFIED:20240812T194359Z
UID:10000075-1723719600-1723741200@www.centroturisticovirtual.com
SUMMARY:Día del Niño en la Plaza Oleary.
DESCRIPTION:Taller de artesanías y juegos lúdicos. Organiza DACC con el apoyo de ASACIVAPA
URL:https://www.centroturisticovirtual.com/calendario/event/dia-del-nino-en-la-plaza-oleary/
LOCATION:Dirección de Acción Cultural\, Ayolas entre Jejui e Ygatimi\, Asunción\, Paraguay
GEO:-25.286723659894;-57.64371548546
X-APPLE-STRUCTURED-LOCATION;VALUE=URI;X-ADDRESS=Dirección de Acción Cultural Ayolas entre Jejui e Ygatimi Asunción Paraguay;X-APPLE-RADIUS=500;X-TITLE=Ayolas entre Jejui e Ygatimi:geo:-57.64371548546,-25.286723659894
END:VEVENT
BEGIN:VEVENT
DTSTART;TZID=UTC:20240815T140000
DTEND;TZID=UTC:20240815T170000
DTSTAMP:20260424T003659
CREATED:20240812T184324Z
LAST-MODIFIED:20240812T184325Z
UID:10000012-1723730400-1723741200@www.centroturisticovirtual.com
SUMMARY:“DRAMATUR”: Visita guiada con personajes del IMA.
DESCRIPTION:“DRAMATUR”: Visita guiada con personajes del IMA. Sede y Organiza: Teatro Municipal Ignacio A. Pane. Acceso libre y gratuito.
URL:https://www.centroturisticovirtual.com/calendario/event/dramatur-visita-guiada-con-personajes-del-ima/
LOCATION:Teatro Municipal\, Pdte. Franco entre\, Chile y\, Asunción\, Asunción\, Paraguay
GEO:-25.280987448548;-57.634167727789
X-APPLE-STRUCTURED-LOCATION;VALUE=URI;X-ADDRESS=Teatro Municipal Pdte. Franco entre Chile y Asunción Asunción Paraguay;X-APPLE-RADIUS=500;X-TITLE=Pdte. Franco entre\, Chile y\, Asunción:geo:-57.634167727789,-25.280987448548
END:VEVENT
BEGIN:VEVENT
DTSTART;TZID=UTC:20240815T180000
DTEND;TZID=UTC:20240815T183000
DTSTAMP:20260424T003659
CREATED:20240812T194453Z
LAST-MODIFIED:20240812T194454Z
UID:10000076-1723744800-1723746600@www.centroturisticovirtual.com
SUMMARY:La Mujer Botellera como identidad Cultural del Paraguay ante el Mundo.
DESCRIPTION:Lugar: Costanera de Asunción – Plazoleta Bicentenario  \n\n\n\nProf. Luna M. Franco en conjunto con DACC
URL:https://www.centroturisticovirtual.com/calendario/event/la-mujer-botellera-como-identidad-cultural-del-paraguay-ante-el-mundo/
LOCATION:Dirección de Acción Cultural\, Ayolas entre Jejui e Ygatimi\, Asunción\, Paraguay
GEO:-25.286723659894;-57.64371548546
X-APPLE-STRUCTURED-LOCATION;VALUE=URI;X-ADDRESS=Dirección de Acción Cultural Ayolas entre Jejui e Ygatimi Asunción Paraguay;X-APPLE-RADIUS=500;X-TITLE=Ayolas entre Jejui e Ygatimi:geo:-57.64371548546,-25.286723659894
END:VEVENT
BEGIN:VEVENT
DTSTART;TZID=UTC:20240815T200000
DTEND;TZID=UTC:20240815T203000
DTSTAMP:20260424T003659
CREATED:20240812T184442Z
LAST-MODIFIED:20240812T184443Z
UID:10000013-1723752000-1723753800@www.centroturisticovirtual.com
SUMMARY:Concierto Camerata Antigua de Curitiba
DESCRIPTION:
URL:https://www.centroturisticovirtual.com/calendario/event/concierto-camerata-antigua-de-curitiba/
LOCATION:Teatro Municipal\, Pdte. Franco entre\, Chile y\, Asunción\, Asunción\, Paraguay
GEO:-25.280987448548;-57.634167727789
X-APPLE-STRUCTURED-LOCATION;VALUE=URI;X-ADDRESS=Teatro Municipal Pdte. Franco entre Chile y Asunción Asunción Paraguay;X-APPLE-RADIUS=500;X-TITLE=Pdte. Franco entre\, Chile y\, Asunción:geo:-57.634167727789,-25.280987448548
END:VEVENT
END:VCALENDAR