BEGIN:VCALENDAR
VERSION:2.0
PRODID:-//Centro Turístico Virtual - ECPv6.6.1//NONSGML v1.0//EN
CALSCALE:GREGORIAN
METHOD:PUBLISH
X-ORIGINAL-URL:https://www.centroturisticovirtual.com/calendario
X-WR-CALDESC:Eventos para Centro Turístico Virtual
REFRESH-INTERVAL;VALUE=DURATION:PT1H
X-Robots-Tag:noindex
X-PUBLISHED-TTL:PT1H
BEGIN:VTIMEZONE
TZID:UTC
BEGIN:STANDARD
TZOFFSETFROM:+0000
TZOFFSETTO:+0000
TZNAME:UTC
DTSTART:20240101T000000
END:STANDARD
END:VTIMEZONE
BEGIN:VEVENT
DTSTART;TZID=UTC:20240805T080000
DTEND;TZID=UTC:20240811T170000
DTSTAMP:20260424T003756
CREATED:20240812T185744Z
LAST-MODIFIED:20240812T185810Z
UID:10000026-1722844800-1723395600@www.centroturisticovirtual.com
SUMMARY:PINTA SUD - Lanzamiento” 2a. Edición.
DESCRIPTION:PINTA SUD – Lanzamiento” 2a. Edición.  \n\n\n\nPrograma especial que busca promover y dar visibilidad al arte contemporáneo paraguayo.  \n\n\n\nSede: Manzana de la Rivera.  \n\n\n\nOrganiza: PINTA SUD
URL:https://www.centroturisticovirtual.com/calendario/event/pinta-sud-lanzamiento-2a-edicion/
LOCATION:Manzana de la Rivera\, El Paraguayo Independiente\, Asunción 001012\, Asunción\, Paraguay
GEO:-25.277737447125;-57.637463843131
X-APPLE-STRUCTURED-LOCATION;VALUE=URI;X-ADDRESS=Manzana de la Rivera El Paraguayo Independiente Asunción 001012 Asunción Paraguay;X-APPLE-RADIUS=500;X-TITLE=El Paraguayo Independiente\, Asunción 001012:geo:-57.637463843131,-25.277737447125
END:VEVENT
BEGIN:VEVENT
DTSTART;TZID=UTC:20240809T080000
DTEND;TZID=UTC:20240809T103000
DTSTAMP:20260424T003756
CREATED:20240812T190439Z
LAST-MODIFIED:20240812T190440Z
UID:10000032-1723190400-1723199400@www.centroturisticovirtual.com
SUMMARY:Viernes Divertido: Jornada de animación lectora.
DESCRIPTION:Viernes Divertido: Jornada de animación lectora Salón García Lorca – Manzana de la Rivera.
URL:https://www.centroturisticovirtual.com/calendario/event/viernes-divertido-jornada-de-animacion-lectora-2/
LOCATION:Manzana de la Rivera\, El Paraguayo Independiente\, Asunción 001012\, Asunción\, Paraguay
GEO:-25.277737447125;-57.637463843131
X-APPLE-STRUCTURED-LOCATION;VALUE=URI;X-ADDRESS=Manzana de la Rivera El Paraguayo Independiente Asunción 001012 Asunción Paraguay;X-APPLE-RADIUS=500;X-TITLE=El Paraguayo Independiente\, Asunción 001012:geo:-57.637463843131,-25.277737447125
END:VEVENT
BEGIN:VEVENT
DTSTART;TZID=UTC:20240809T190000
DTEND;TZID=UTC:20240809T210000
DTSTAMP:20260424T003756
CREATED:20240812T190239Z
LAST-MODIFIED:20240812T190240Z
UID:10000030-1723230000-1723237200@www.centroturisticovirtual.com
SUMMARY:Conversatorio y proyección de la película sobre el Jasuka Venda\, a cargo de líderes Paî Tavytera.
DESCRIPTION:Conversatorio y proyección de la película sobre el Jasuka Venda\, a cargo de líderes Paî Tavytera.  \n\n\n\nOrganiza: ONU Paraguay.  \n\n\n\nAuditorio Ruy Díaz de Guzmán.
URL:https://www.centroturisticovirtual.com/calendario/event/conversatorio-y-proyeccion-de-la-pelicula-sobre-el-jasuka-venda-a-cargo-de-lideres-pai-tavytera/
LOCATION:Manzana de la Rivera\, El Paraguayo Independiente\, Asunción 001012\, Asunción\, Paraguay
GEO:-25.277737447125;-57.637463843131
X-APPLE-STRUCTURED-LOCATION;VALUE=URI;X-ADDRESS=Manzana de la Rivera El Paraguayo Independiente Asunción 001012 Asunción Paraguay;X-APPLE-RADIUS=500;X-TITLE=El Paraguayo Independiente\, Asunción 001012:geo:-57.637463843131,-25.277737447125
END:VEVENT
BEGIN:VEVENT
DTSTART;TZID=UTC:20240809T200000
DTEND;TZID=UTC:20240809T213000
DTSTAMP:20260424T003756
CREATED:20240812T183650Z
LAST-MODIFIED:20240812T183651Z
UID:10000008-1723233600-1723239000@www.centroturisticovirtual.com
SUMMARY:Salamandra Sinfónico
DESCRIPTION:
URL:https://www.centroturisticovirtual.com/calendario/event/salamandra-sinfonico/
LOCATION:Teatro Municipal\, Pdte. Franco entre\, Chile y\, Asunción\, Asunción\, Paraguay
GEO:-25.280987448548;-57.634167727789
X-APPLE-STRUCTURED-LOCATION;VALUE=URI;X-ADDRESS=Teatro Municipal Pdte. Franco entre Chile y Asunción Asunción Paraguay;X-APPLE-RADIUS=500;X-TITLE=Pdte. Franco entre\, Chile y\, Asunción:geo:-57.634167727789,-25.280987448548
END:VEVENT
BEGIN:VEVENT
DTSTART;TZID=UTC:20240809T210000
DTEND;TZID=UTC:20240809T220000
DTSTAMP:20260424T003756
CREATED:20240812T190348Z
LAST-MODIFIED:20240812T190349Z
UID:10000031-1723237200-1723240800@www.centroturisticovirtual.com
SUMMARY:Concierto del grupo de rock Garage 21 por sus 20 años.
DESCRIPTION:Concierto del grupo de rock Garage 21 por sus 20 años.  \n\n\n\nAuditorio Ruy Díaz de Guzmán
URL:https://www.centroturisticovirtual.com/calendario/event/concierto-del-grupo-de-rock-garage-21-por-sus-20-anos/
LOCATION:Manzana de la Rivera\, El Paraguayo Independiente\, Asunción 001012\, Asunción\, Paraguay
GEO:-25.277737447125;-57.637463843131
X-APPLE-STRUCTURED-LOCATION;VALUE=URI;X-ADDRESS=Manzana de la Rivera El Paraguayo Independiente Asunción 001012 Asunción Paraguay;X-APPLE-RADIUS=500;X-TITLE=El Paraguayo Independiente\, Asunción 001012:geo:-57.637463843131,-25.277737447125
END:VEVENT
END:VCALENDAR