BEGIN:VCALENDAR
VERSION:2.0
PRODID:-//Centro Turístico Virtual - ECPv6.6.1//NONSGML v1.0//EN
CALSCALE:GREGORIAN
METHOD:PUBLISH
X-WR-CALNAME:Centro Turístico Virtual
X-ORIGINAL-URL:https://www.centroturisticovirtual.com/calendario
X-WR-CALDESC:Eventos para Centro Turístico Virtual
REFRESH-INTERVAL;VALUE=DURATION:PT1H
X-Robots-Tag:noindex
X-PUBLISHED-TTL:PT1H
BEGIN:VTIMEZONE
TZID:UTC
BEGIN:STANDARD
TZOFFSETFROM:+0000
TZOFFSETTO:+0000
TZNAME:UTC
DTSTART:20240101T000000
END:STANDARD
END:VTIMEZONE
BEGIN:VEVENT
DTSTART;TZID=UTC:20240805T080000
DTEND;TZID=UTC:20240811T170000
DTSTAMP:20260424T003219
CREATED:20240812T185744Z
LAST-MODIFIED:20240812T185810Z
UID:10000026-1722844800-1723395600@www.centroturisticovirtual.com
SUMMARY:PINTA SUD - Lanzamiento” 2a. Edición.
DESCRIPTION:PINTA SUD – Lanzamiento” 2a. Edición.  \n\n\n\nPrograma especial que busca promover y dar visibilidad al arte contemporáneo paraguayo.  \n\n\n\nSede: Manzana de la Rivera.  \n\n\n\nOrganiza: PINTA SUD
URL:https://www.centroturisticovirtual.com/calendario/event/pinta-sud-lanzamiento-2a-edicion/
LOCATION:Manzana de la Rivera\, El Paraguayo Independiente\, Asunción 001012\, Asunción\, Paraguay
GEO:-25.277737447125;-57.637463843131
X-APPLE-STRUCTURED-LOCATION;VALUE=URI;X-ADDRESS=Manzana de la Rivera El Paraguayo Independiente Asunción 001012 Asunción Paraguay;X-APPLE-RADIUS=500;X-TITLE=El Paraguayo Independiente\, Asunción 001012:geo:-57.637463843131,-25.277737447125
END:VEVENT
BEGIN:VEVENT
DTSTART;TZID=UTC:20240807T090000
DTEND;TZID=UTC:20240807T110000
DTSTAMP:20260424T003219
CREATED:20240812T185923Z
LAST-MODIFIED:20240812T185924Z
UID:10000027-1723021200-1723028400@www.centroturisticovirtual.com
SUMMARY:Conociendo Asunción; visita guiada por el Centro Cultural de la Ciudad Carlos Colombino.
DESCRIPTION:Conociendo Asunción\, visita guiada por el Centro Cultural de la Ciudad Carlos Colombino en la Manzana de la Rivera.  \n\n\n\nOrganiza: Departamento de Audiovisual.  \n\n\n\nEspacios de la Manzana.
URL:https://www.centroturisticovirtual.com/calendario/event/conociendo-asuncion-visita-guiada-por-el-centro-cultural-de-la-ciudad-carlos-colombino/
LOCATION:Manzana de la Rivera\, El Paraguayo Independiente\, Asunción 001012\, Asunción\, Paraguay
GEO:-25.277737447125;-57.637463843131
X-APPLE-STRUCTURED-LOCATION;VALUE=URI;X-ADDRESS=Manzana de la Rivera El Paraguayo Independiente Asunción 001012 Asunción Paraguay;X-APPLE-RADIUS=500;X-TITLE=El Paraguayo Independiente\, Asunción 001012:geo:-57.637463843131,-25.277737447125
END:VEVENT
BEGIN:VEVENT
DTSTART;TZID=UTC:20240807T113000
DTEND;TZID=UTC:20240807T170000
DTSTAMP:20260424T003219
CREATED:20240812T194946Z
LAST-MODIFIED:20240812T194947Z
UID:10000081-1723030200-1723050000@www.centroturisticovirtual.com
SUMMARY:Karu Guasu – San Cayetano – Menu Kumandá Kesu.
DESCRIPTION:Chaca Restó Bar (Gondra entre Tacuary y Avda. Mariscal López 183).  \n\n\n\nOrganizan: Chaca Tour\, Chaca Resto y la Asociación de Trabajadores gastronómicos y afines.
URL:https://www.centroturisticovirtual.com/calendario/event/karu-guasu-san-cayetano-menu-kumanda-kesu/
LOCATION:Otras Actividades\, Asunción\, Paraguay
END:VEVENT
BEGIN:VEVENT
DTSTART;TZID=UTC:20240807T180000
DTEND;TZID=UTC:20240807T183000
DTSTAMP:20260424T003219
CREATED:20240812T194001Z
LAST-MODIFIED:20240812T194003Z
UID:10000070-1723053600-1723055400@www.centroturisticovirtual.com
SUMMARY:Festejo Patronal de San Cayetano. Lugar: Capilla San Cayetano
DESCRIPTION:Festejo Patronal de San Cayetano.  \n\n\n\nLugar: Capilla San Cayetano \n\n\n\nOrganiza: DACC. en Conjunto con Prof. Andrés Caballero\, Promotor Cultural
URL:https://www.centroturisticovirtual.com/calendario/event/festejo-patronal-de-san-cayetano-lugar-capilla-san-cayetano/
LOCATION:Dirección de Acción Cultural\, Ayolas entre Jejui e Ygatimi\, Asunción\, Paraguay
GEO:-25.286723659894;-57.64371548546
X-APPLE-STRUCTURED-LOCATION;VALUE=URI;X-ADDRESS=Dirección de Acción Cultural Ayolas entre Jejui e Ygatimi Asunción Paraguay;X-APPLE-RADIUS=500;X-TITLE=Ayolas entre Jejui e Ygatimi:geo:-57.64371548546,-25.286723659894
END:VEVENT
BEGIN:VEVENT
DTSTART;TZID=UTC:20240807T183000
DTEND;TZID=UTC:20240807T190000
DTSTAMP:20260424T003219
CREATED:20240812T190000Z
LAST-MODIFIED:20240812T190002Z
UID:10000028-1723055400-1723057200@www.centroturisticovirtual.com
SUMMARY:Presentación del libro "La radical imaginación política de las Mujeres Negras Brasileñas y de Latinoamerica".
DESCRIPTION:Presentación del libro «La radical imaginación política de las Mujeres Negras Brasileñas y de Latinoamerica».  \n\n\n\nOrganiza: Base IS. Auditorio Ruy Díaz de Guzmán
URL:https://www.centroturisticovirtual.com/calendario/event/presentacion-del-libro-la-radical-imaginacion-politica-de-las-mujeres-negras-brasilenas-y-de-latinoamerica/
LOCATION:Manzana de la Rivera\, El Paraguayo Independiente\, Asunción 001012\, Asunción\, Paraguay
GEO:-25.277737447125;-57.637463843131
X-APPLE-STRUCTURED-LOCATION;VALUE=URI;X-ADDRESS=Manzana de la Rivera El Paraguayo Independiente Asunción 001012 Asunción Paraguay;X-APPLE-RADIUS=500;X-TITLE=El Paraguayo Independiente\, Asunción 001012:geo:-57.637463843131,-25.277737447125
END:VEVENT
BEGIN:VEVENT
DTSTART;TZID=UTC:20240807T183000
DTEND;TZID=UTC:20240807T190000
DTSTAMP:20260424T003219
CREATED:20240812T195046Z
LAST-MODIFIED:20240812T195047Z
UID:10000082-1723055400-1723057200@www.centroturisticovirtual.com
SUMMARY:5to. Concierto del Ciclo “Cultura en los Barrios” OSCA
DESCRIPTION:5to. Concierto del Ciclo “Cultura en los Barrios” OSCA.  \n\n\n\nLugar: Escuela Rca. Oriental del Uruguay.  \n\n\n\nDirector: José Miguel Echeverría.
URL:https://www.centroturisticovirtual.com/calendario/event/5to-concierto-del-ciclo-cultura-en-los-barrios-osca/
LOCATION:Otras Actividades\, Asunción\, Paraguay
END:VEVENT
BEGIN:VEVENT
DTSTART;TZID=UTC:20240807T200000
DTEND;TZID=UTC:20240807T220000
DTSTAMP:20260424T003219
CREATED:20240812T183505Z
LAST-MODIFIED:20240812T183506Z
UID:10000006-1723060800-1723068000@www.centroturisticovirtual.com
SUMMARY:Música del Mundo con el Arpa de Martin Portillo.
DESCRIPTION:
URL:https://www.centroturisticovirtual.com/calendario/event/musica-del-mundo-con-el-arpa-de-martin-portillo/
LOCATION:Teatro Municipal\, Pdte. Franco entre\, Chile y\, Asunción\, Asunción\, Paraguay
GEO:-25.280987448548;-57.634167727789
X-APPLE-STRUCTURED-LOCATION;VALUE=URI;X-ADDRESS=Teatro Municipal Pdte. Franco entre Chile y Asunción Asunción Paraguay;X-APPLE-RADIUS=500;X-TITLE=Pdte. Franco entre\, Chile y\, Asunción:geo:-57.634167727789,-25.280987448548
END:VEVENT
BEGIN:VEVENT
DTSTART;TZID=UTC:20240807T210000
DTEND;TZID=UTC:20240807T213000
DTSTAMP:20260424T003219
CREATED:20240812T195125Z
LAST-MODIFIED:20240812T195127Z
UID:10000083-1723064400-1723066200@www.centroturisticovirtual.com
SUMMARY:“Melodías y Sabores de Asunción"
DESCRIPTION:Diferentes restaurantes de Asunción.
URL:https://www.centroturisticovirtual.com/calendario/event/melodias-y-sabores-de-asuncion/
LOCATION:Otras Actividades\, Asunción\, Paraguay
END:VEVENT
END:VCALENDAR