BEGIN:VCALENDAR
VERSION:2.0
PRODID:-//Centro Turístico Virtual - ECPv6.6.1//NONSGML v1.0//EN
CALSCALE:GREGORIAN
METHOD:PUBLISH
X-WR-CALNAME:Centro Turístico Virtual
X-ORIGINAL-URL:https://www.centroturisticovirtual.com/calendario
X-WR-CALDESC:Eventos para Centro Turístico Virtual
REFRESH-INTERVAL;VALUE=DURATION:PT1H
X-Robots-Tag:noindex
X-PUBLISHED-TTL:PT1H
BEGIN:VTIMEZONE
TZID:UTC
BEGIN:STANDARD
TZOFFSETFROM:+0000
TZOFFSETTO:+0000
TZNAME:UTC
DTSTART:20240101T000000
END:STANDARD
END:VTIMEZONE
BEGIN:VEVENT
DTSTART;TZID=UTC:20240805T080000
DTEND;TZID=UTC:20240811T170000
DTSTAMP:20260424T003220
CREATED:20240812T185744Z
LAST-MODIFIED:20240812T185810Z
UID:10000026-1722844800-1723395600@www.centroturisticovirtual.com
SUMMARY:PINTA SUD - Lanzamiento” 2a. Edición.
DESCRIPTION:PINTA SUD – Lanzamiento” 2a. Edición.  \n\n\n\nPrograma especial que busca promover y dar visibilidad al arte contemporáneo paraguayo.  \n\n\n\nSede: Manzana de la Rivera.  \n\n\n\nOrganiza: PINTA SUD
URL:https://www.centroturisticovirtual.com/calendario/event/pinta-sud-lanzamiento-2a-edicion/
LOCATION:Manzana de la Rivera\, El Paraguayo Independiente\, Asunción 001012\, Asunción\, Paraguay
GEO:-25.277737447125;-57.637463843131
X-APPLE-STRUCTURED-LOCATION;VALUE=URI;X-ADDRESS=Manzana de la Rivera El Paraguayo Independiente Asunción 001012 Asunción Paraguay;X-APPLE-RADIUS=500;X-TITLE=El Paraguayo Independiente\, Asunción 001012:geo:-57.637463843131,-25.277737447125
END:VEVENT
BEGIN:VEVENT
DTSTART;TZID=UTC:20240806T170000
DTEND;TZID=UTC:20240806T170000
DTSTAMP:20260424T003220
CREATED:20240812T194903Z
LAST-MODIFIED:20240812T194904Z
UID:10000080-1722963600-1722963600@www.centroturisticovirtual.com
SUMMARY:Concierto de Guitarra Clásica. Ciclo Tardecitas Musicales del IMA.
DESCRIPTION:Concierto de Guitarra Clásica.  \n\n\n\nCiclo Tardecitas Musicales del IMA.  \n\n\n\nIntérprete: Guitarrista eslovaco Adam Marec.  \n\n\n\nAuditorio Mercedes Jané del IMA.
URL:https://www.centroturisticovirtual.com/calendario/event/concierto-de-guitarra-clasica-ciclo-tardecitas-musicales-del-ima/
LOCATION:Otras Actividades\, Asunción\, Paraguay
END:VEVENT
BEGIN:VEVENT
DTSTART;TZID=UTC:20240806T180000
DTEND;TZID=UTC:20240806T183000
DTSTAMP:20260424T003220
CREATED:20240812T193909Z
LAST-MODIFIED:20240812T193910Z
UID:10000069-1722967200-1722969000@www.centroturisticovirtual.com
SUMMARY:Misa Cantada a San Cayetano.
DESCRIPTION:Lugar: Mallorquín y Testanova Sajonia
URL:https://www.centroturisticovirtual.com/calendario/event/misa-cantada-a-san-cayetano/
LOCATION:Dirección de Acción Cultural\, Ayolas entre Jejui e Ygatimi\, Asunción\, Paraguay
GEO:-25.286723659894;-57.64371548546
X-APPLE-STRUCTURED-LOCATION;VALUE=URI;X-ADDRESS=Dirección de Acción Cultural Ayolas entre Jejui e Ygatimi Asunción Paraguay;X-APPLE-RADIUS=500;X-TITLE=Ayolas entre Jejui e Ygatimi:geo:-57.64371548546,-25.286723659894
END:VEVENT
BEGIN:VEVENT
DTSTART;TZID=UTC:20240806T183000
DTEND;TZID=UTC:20240806T200000
DTSTAMP:20260424T003220
CREATED:20240809T173133Z
LAST-MODIFIED:20240812T183252Z
UID:10000005-1722969000-1722974400@www.centroturisticovirtual.com
SUMMARY:4to. Concierto del Ciclo “Cultura en los barrios” OSCA.
DESCRIPTION:4to. Concierto del Ciclo “Cultura en los barrios” OSCA.  \n\n\n\nEscuela República de Panamá.  \n\n\n\nDirector: José Miguel Echeverría.  \n\n\n\nAcceso libre.
URL:https://www.centroturisticovirtual.com/calendario/event/2da-temporada-del-ballet-clasico-y-moderno-municipal-obra-romeo-y-julieta-en-el-teatro-municipal-ignacio-a-pane/
LOCATION:Teatro Municipal\, Pdte. Franco entre\, Chile y\, Asunción\, Asunción\, Paraguay
GEO:-25.280987448548;-57.634167727789
X-APPLE-STRUCTURED-LOCATION;VALUE=URI;X-ADDRESS=Teatro Municipal Pdte. Franco entre Chile y Asunción Asunción Paraguay;X-APPLE-RADIUS=500;X-TITLE=Pdte. Franco entre\, Chile y\, Asunción:geo:-57.634167727789,-25.280987448548
END:VEVENT
BEGIN:VEVENT
DTSTART;TZID=UTC:20240806T193000
DTEND;TZID=UTC:20240806T200000
DTSTAMP:20260424T003220
CREATED:20240812T192534Z
LAST-MODIFIED:20240812T192535Z
UID:10000056-1722972600-1722974400@www.centroturisticovirtual.com
SUMMARY:Conversatorio & Meet and Greet con los actores de “La Sociedad de la Nieve”.
DESCRIPTION:Conversatorio & Meet and Greet con los actores de “La Sociedad de la Nieve”.  \n\n\n\nTeatro “Agustín P. Barrios”.  \n\n\n\nEntradas: www.passline.com  \n\n\n\nContacto: Carolina Sandoval: 0972165201
URL:https://www.centroturisticovirtual.com/calendario/event/conversatorio-meet-and-greet-con-los-actores-de-la-sociedad-de-la-nieve/
LOCATION:Centro Paraguayo Japonés\, Domingo Portillo\, Asunción 001526\, Asunción\, Paraguay
GEO:-25.272671425582;-57.563962164014
X-APPLE-STRUCTURED-LOCATION;VALUE=URI;X-ADDRESS=Centro Paraguayo Japonés Domingo Portillo Asunción 001526 Asunción Paraguay;X-APPLE-RADIUS=500;X-TITLE=Domingo Portillo\, Asunción 001526:geo:-57.563962164014,-25.272671425582
END:VEVENT
BEGIN:VEVENT
DTSTART;TZID=UTC:20240806T200000
DTEND;TZID=UTC:20240806T213000
DTSTAMP:20260424T003220
CREATED:20240809T145343Z
LAST-MODIFIED:20240812T182605Z
UID:10000003-1722974400-1722979800@www.centroturisticovirtual.com
SUMMARY:Obra  “Che Jukata la INDIECITA”
DESCRIPTION:
URL:https://www.centroturisticovirtual.com/calendario/event/conociendo-asuncion/
LOCATION:Teatro Municipal\, Pdte. Franco entre\, Chile y\, Asunción\, Asunción\, Paraguay
GEO:-25.280987448548;-57.634167727789
X-APPLE-STRUCTURED-LOCATION;VALUE=URI;X-ADDRESS=Teatro Municipal Pdte. Franco entre Chile y Asunción Asunción Paraguay;X-APPLE-RADIUS=500;X-TITLE=Pdte. Franco entre\, Chile y\, Asunción:geo:-57.634167727789,-25.280987448548
END:VEVENT
END:VCALENDAR