BEGIN:VCALENDAR
VERSION:2.0
PRODID:-//Centro Turístico Virtual - ECPv6.6.1//NONSGML v1.0//EN
CALSCALE:GREGORIAN
METHOD:PUBLISH
X-WR-CALNAME:Centro Turístico Virtual
X-ORIGINAL-URL:https://www.centroturisticovirtual.com/calendario
X-WR-CALDESC:Eventos para Centro Turístico Virtual
REFRESH-INTERVAL;VALUE=DURATION:PT1H
X-Robots-Tag:noindex
X-PUBLISHED-TTL:PT1H
BEGIN:VTIMEZONE
TZID:UTC
BEGIN:STANDARD
TZOFFSETFROM:+0000
TZOFFSETTO:+0000
TZNAME:UTC
DTSTART:20240101T000000
END:STANDARD
END:VTIMEZONE
BEGIN:VEVENT
DTSTART;TZID=UTC:20240804T100000
DTEND;TZID=UTC:20240804T170000
DTSTAMP:20260424T003204
CREATED:20240809T143855Z
LAST-MODIFIED:20240812T182450Z
UID:10000002-1722765600-1722790800@www.centroturisticovirtual.com
SUMMARY:Abrimos las puertas del Teatro Municipal Ignacio A. Pane
DESCRIPTION:
URL:https://www.centroturisticovirtual.com/calendario/event/concurso-adc-asuncion-dance-competition-teatro/
LOCATION:Teatro Municipal\, Pdte. Franco entre\, Chile y\, Asunción\, Asunción\, Paraguay
GEO:-25.280987448548;-57.634167727789
X-APPLE-STRUCTURED-LOCATION;VALUE=URI;X-ADDRESS=Teatro Municipal Pdte. Franco entre Chile y Asunción Asunción Paraguay;X-APPLE-RADIUS=500;X-TITLE=Pdte. Franco entre\, Chile y\, Asunción:geo:-57.634167727789,-25.280987448548
END:VEVENT
BEGIN:VEVENT
DTSTART;TZID=UTC:20240804T100000
DTEND;TZID=UTC:20240804T170000
DTSTAMP:20260424T003204
CREATED:20240812T193558Z
LAST-MODIFIED:20240812T193559Z
UID:10000067-1722765600-1722790800@www.centroturisticovirtual.com
SUMMARY:Encuentro Artístico Cultural de Confraternidad en Homenaje a los jugadores del Club Pte. Hayes.
DESCRIPTION:Encuentro Artístico Cultural de Confraternidad en Homenaje a los jugadores del Club Pte. Hayes.  \n\n\n\nLugar: Calle 21 Pytadas\, c/ 14 de mayo
URL:https://www.centroturisticovirtual.com/calendario/event/encuentro-artistico-cultural-de-confraternidad-en-homenaje-a-los-jugadores-del-club-pte-hayes/
LOCATION:Dirección de Acción Cultural\, Ayolas entre Jejui e Ygatimi\, Asunción\, Paraguay
GEO:-25.286723659894;-57.64371548546
X-APPLE-STRUCTURED-LOCATION;VALUE=URI;X-ADDRESS=Dirección de Acción Cultural Ayolas entre Jejui e Ygatimi Asunción Paraguay;X-APPLE-RADIUS=500;X-TITLE=Ayolas entre Jejui e Ygatimi:geo:-57.64371548546,-25.286723659894
END:VEVENT
END:VCALENDAR